BEGIN:VCALENDAR
VERSION:2.0
PRODID:-//wp-events-plugin.com//7.2.3.1//EN
TZID:Europe/Berlin
X-WR-TIMEZONE:Europe/Berlin
BEGIN:VEVENT
UID:0-828@blogs.hrz.tu-freiberg.de
DTSTART;TZID=Europe/Berlin:20260129T180000
DTEND;TZID=Europe/Berlin:20260129T180000
DTSTAMP:20260108T115457Z
URL:https://blogs.hrz.tu-freiberg.de/fachgruppe-geooekologie/events/fsr3-n
 eujahrsbowling-2026/
SUMMARY:FSR3-Neujahrsbowling 2026
DESCRIPTION:Das neue Jahr hat begonnen und somit ist es aller höchste Zeit
  den Jahreswechsel sportlich zu feiern.\nDaher veranstaltet der FSR3 am 29
 .01. ab 18:00 das Neujahresbowling 🎳 im Altstadt Bowling Freiberg.\nBil
 det ein Team aus 5 Personen und meldet euch unter folgenden Link an: https
 ://forms.gle/twoEwKSeTukJ92zx7 (Selbstverständlich freuen wir uns über l
 ustige Teamnamen) und tretet gegen andere Teams an.\nDie Teilnahme kostet 
 5€ pro Person.\n\nWir freuen uns auf euch und möge das beste Team gewin
 nen!\nDer FSR 3
CATEGORIES:Sonstiges
END:VEVENT
BEGIN:VTIMEZONE
TZID:Europe/Berlin
X-LIC-LOCATION:Europe/Berlin
BEGIN:STANDARD
DTSTART:20251026T020000
TZOFFSETFROM:+0200
TZOFFSETTO:+0100
TZNAME:CET
END:STANDARD
END:VTIMEZONE
END:VCALENDAR