BEGIN:VCALENDAR
VERSION:2.0
PRODID:-//wp-events-plugin.com//7.2.3.1//EN
TZID:Europe/Berlin
X-WR-TIMEZONE:Europe/Berlin
BEGIN:VEVENT
UID:0-17@blogs.hrz.tu-freiberg.de
DTSTART;TZID=Europe/Berlin:20200415T180000
DTEND;TZID=Europe/Berlin:20200415T210000
DTSTAMP:20200312T182542Z
URL:https://blogs.hrz.tu-freiberg.de/fachgruppe-geooekologie/events/gemuet
 liches-netzwerk-und-kenenlerntreffen/
SUMMARY:Gemütliches Netzwerk- und Kennenlerntreffen
DESCRIPTION:Liebe GÖKs\,\n\nam 15.04. laden wir euch herzlich ins Pi-Haus 
 ein\, um gemeinsam zu kochen\, Ideen auszutauschen und uns auch noch einma
 l vorzustellen.\n\nDenn wir schrumpfen momentan\, und um weiterhin für di
 e Student*innen da sein zu können brauchen wir wieder mehr helfende Händ
 e. Auch wenn Ihr nicht viel Zeit habt\, so gibt es auch kleine Hilfen die 
 uns enorm entlasten. Also kommt gern vorbei\, auch wenn ihr nur ein bissch
 en kochen wollt oder Ideen für uns habt - für frischen Wind sind wir imm
 er dankbar!\n\n&nbsp\;\n\nWir freuen uns auf euch\,\n\neure Fachgruppe
LOCATION:Pi-Haus\, Beethovenstr. 5\, Freiberg\, Deutschland
X-APPLE-STRUCTURED-LOCATION;VALUE=URI;X-ADDRESS=Beethovenstr. 5\, Freiberg\
 , Deutschland;X-APPLE-RADIUS=100;X-TITLE=Pi-Haus:geo:0,0
END:VEVENT
BEGIN:VTIMEZONE
TZID:Europe/Berlin
X-LIC-LOCATION:Europe/Berlin
BEGIN:DAYLIGHT
DTSTART:20200329T030000
TZOFFSETFROM:+0100
TZOFFSETTO:+0200
TZNAME:CEST
END:DAYLIGHT
END:VTIMEZONE
END:VCALENDAR