BEGIN:VCALENDAR
VERSION:2.0
PRODID:-//wp-events-plugin.com//7.2.3.1//EN
TZID:Europe/Berlin
X-WR-TIMEZONE:Europe/Berlin
BEGIN:VEVENT
UID:0-688@blogs.hrz.tu-freiberg.de
DTSTART;TZID=Europe/Berlin:20250715T200000
DTEND;TZID=Europe/Berlin:20250715T230000
DTSTAMP:20250701T143248Z
URL:https://blogs.hrz.tu-freiberg.de/fachgruppe-geooekologie/events/geo-st
 ammtisch-des-fsr3/
SUMMARY:Geo-Stammtisch des FSR3
DESCRIPTION:Der Geo-Stammtisch des FSR3 findet wie immer am dritten Diensta
 g des Monats ab 20:00 Uhr im "Abgang" statt.\n\nAlle Studierenden der Faku
 ltät 3 sind herzlich eingeladen!
CATEGORIES:Universitäre Veranstaltung
LOCATION:Abgang (Alte Mensa)\, Petersstraße 5\, Freiberg\, Deutschland
X-APPLE-STRUCTURED-LOCATION;VALUE=URI;X-ADDRESS=Petersstraße 5\, Freiberg\
 , Deutschland;X-APPLE-RADIUS=100;X-TITLE=Abgang (Alte Mensa):geo:0,0
END:VEVENT
BEGIN:VTIMEZONE
TZID:Europe/Berlin
X-LIC-LOCATION:Europe/Berlin
BEGIN:DAYLIGHT
DTSTART:20250330T030000
TZOFFSETFROM:+0100
TZOFFSETTO:+0200
TZNAME:CEST
END:DAYLIGHT
END:VTIMEZONE
END:VCALENDAR