BEGIN:VCALENDAR
VERSION:2.0
PRODID:-//wp-events-plugin.com//7.2.3.1//EN
TZID:Europe/Berlin
X-WR-TIMEZONE:Europe/Berlin
BEGIN:VEVENT
UID:0-19@blogs.hrz.tu-freiberg.de
DTSTART;TZID=Europe/Berlin;VALUE=DATE:20200529
DTEND;TZID=Europe/Berlin;VALUE=DATE:20200601
DTSTAMP:20200513T153143Z
URL:https://blogs.hrz.tu-freiberg.de/fachgruppe-geooekologie/events/goek-e
 xkursion-29-31-05-zum-netzwerken/
SUMMARY:GÖK-Exkursion Mai zum Netzwerken -ABGESAGT-
DESCRIPTION:Liebe Geoökolog*innen\,\n\nwie bereits auf der Jahrestagung an
 gekündigt\, bieten wir dieses Jahr zum ersten Mal eine VGöD–Exkursion 
 vom 29.-31. Mai 2020 an. Sie wird uns ins schöne obere Donautal nach Leib
 ertingen führen\, wo zwei Geoökologen (Carsten Weber und Julianna Ranzme
 yer) den Archehof „Distelhummelhof“ betreiben.\n\nWie sieht der Ablauf
  aus?\nDer Freitag (ab Nachmittag soll die Anreise erfolgen) wird für die
  Ankunft und am Abend eine Einführung in das Gebiet reserviert sein.\nAm 
 Samstag werden wir dann den Tag über mit Carsten und Julianna unterwegs s
 ein\, wahrscheinlich hauptsächlich in der Umgebung seines Arche-Hofs. Arc
 he-Höfe verstehen sich als Einrichtung mit dem Ziel\, vom Aussterben bedr
 ohte Nutztierrassen aktiv zu erhalten und weiter zu züchten. Sie integrie
 ren diese Rassen bewusst in ihr Betriebskonzept und stellen landwirtschaft
 liche Produkte her (www.g-e-h.de/index.php/arche-hof-kriterienkatalog).\nA
 m Sonntagvormittag erkunden wir die Umgebung\, bevor dann gegen Mittag wie
 der die Abreise erfolgt.\nInsbesondere die Abenden sollen natürlich zum N
 etzwerken dienen.\n\nWo sind wir untergebracht und mit welchen Kosten ist 
 zu rechnen?\nIn der Jugendherberge (JH) Burg Wildenstein\, die malerisch a
 m Rande des Donautals liegt.\nDie Kosten für die Exkursion betragen pro P
 erson 100 € (exkl. Anreise). Die Anreise muss selber organisiert (und fi
 nanziert) werden\, wir werden aber soweit möglich Hilfestellung leisten\,
  sodass sich z.B. Fahrtgemeinschaften bilden können. Die nächste Bahnhal
 testelle ist Beuron\; ein regulärer Busverkehr besteht nicht\, der Fußwe
 g wären ca. 1\,5 h zur JH. Bei Bedarf lässt sich auch ein Bustransport o
 rganisieren.\n\nWie melden wir uns an?\nWenn wir euer Interesse geweckt ha
 ben\, meldet euch bitte bis zum 26. Februar unter exkursion@vgoed.de mit d
 er Angabe von:\n\nNamen\nAdresse\nStatus (studierend oder berufstätig\, B
 erufstätige werden zunächst bevorzugt)\nE-Mail-Adresse\nAnreise voraussi
 chtlich mit eigenem Auto mit Mitnahmemöglichkeit\n\nbei uns an. Die maxim
 ale Teilnehmerzahl beträgt 15 Personen.\n\n&nbsp\;\n\nLiebe Grüße\neuer
  VGöD-Vorstand
CATEGORIES:Exkursion
END:VEVENT
BEGIN:VTIMEZONE
TZID:Europe/Berlin
X-LIC-LOCATION:Europe/Berlin
BEGIN:DAYLIGHT
DTSTART:20200329T030000
TZOFFSETFROM:+0100
TZOFFSETTO:+0200
TZNAME:CEST
END:DAYLIGHT
END:VTIMEZONE
END:VCALENDAR