BEGIN:VCALENDAR
VERSION:2.0
PRODID:-//wp-events-plugin.com//7.2.3.1//EN
TZID:Europe/Berlin
X-WR-TIMEZONE:Europe/Berlin
BEGIN:VEVENT
UID:0-345@blogs.hrz.tu-freiberg.de
DTSTART;TZID=Europe/Berlin;VALUE=DATE:20240607
DTEND;TZID=Europe/Berlin;VALUE=DATE:20240610
DTSTAMP:20240430T114544Z
URL:https://blogs.hrz.tu-freiberg.de/fachgruppe-geooekologie/events/goek-f
 ahrt-2024/
SUMMARY:Gök-Fahrt 2024
DESCRIPTION:Dieses Jahr geht es vom 7. bis 9. Juni ins Spree-Camp in der La
 usitz.\n\nDort wollen wir gemeinsam die Gegend mit ihrer Flora und Fauna e
 rkunden und uns ein schönes Wochenende machen. Neben einem gemütlichen A
 bend mit Stockbrot am Lagerfeuer und einem Badeausflug zum anliegenden See
  wird es auch eine geführte Wanderung und einen Ansitz geben. Selbstverst
 ändlich habt ihr auch Zeit für individuelle Freizeitgestaltung. Wir hoff
 en damit\, euren Horizont ein wenig erweitern und die Gruppe stärken zu k
 önnen.\n\nDetaillierte Informationen zur Unterkunft und Anreise findet ih
 r auf dem Anmeldeformular. Schreibt uns bei Fragen an Fachgruppegoek@outlo
 ok.de oder sprecht uns direkt an!\n\nAnmeldung bis 17. Mai über Fachgrupp
 egoek@outlook.de oder persönlich\, hier gehts zum Anmeldeformular: Anmeld
 ung Gök-Fahrt 2024
CATEGORIES:Exkursion
END:VEVENT
BEGIN:VTIMEZONE
TZID:Europe/Berlin
X-LIC-LOCATION:Europe/Berlin
BEGIN:DAYLIGHT
DTSTART:20240331T030000
TZOFFSETFROM:+0100
TZOFFSETTO:+0200
TZNAME:CEST
END:DAYLIGHT
END:VTIMEZONE
END:VCALENDAR