BEGIN:VCALENDAR
VERSION:2.0
PRODID:-//wp-events-plugin.com//7.2.3.1//EN
TZID:Europe/Berlin
X-WR-TIMEZONE:Europe/Berlin
BEGIN:VEVENT
UID:0-3@blogs.hrz.tu-freiberg.de
DTSTART;TZID=Europe/Berlin:20190621T000000
DTEND;TZID=Europe/Berlin:20190623T000000
DTSTAMP:20190608T120759Z
URL:https://blogs.hrz.tu-freiberg.de/fachgruppe-geooekologie/events/goek-f
 ahrt/
SUMMARY:Gök-Fahrt
DESCRIPTION:Wir wollen euch kennenlernen und deshalb mit euch an diesem Woc
 henende auf Reisen gehen! Eingeladen sind alle GÖKs und diejenigen\, die 
 sich mit uns verbunden fühlen\, ganz besonders aber unsere Erstis und Zwe
 itis. Es geht es zur NABU Naturschutzstation Teichhaus Eschefeld\, wo wir 
 gemeinsam mit euch Zeit in der Natur verbringen\, am Lagerfeuer sitzen\, w
 andern gehen\, Vegetationskunde vertiefen\, quatschen\, fachsimpeln usw…
  wollen. Außerdem sollen sich durch eine Exkursion vom NABU am Samstag un
 sere geoökologischen Horizonte erweitern.\nIm Preis ist alles enthalten: 
 Verpflegung (vegetarisch)\, Zugfahrt\, Unterkunft und Exkursion. Übernach
 tet werden kann im Zelt oder in Mehrbettzimmern (auf Matratzen oder selbst
  mitgebrachten Isomatten). Einen Schlafsack braucht ihr in jedem Fall!\nIn
 fos zu den Preisen (je nach Mitfahrerzahl) erhaltet ihr auf Anfrage per E-
 Mail (fachgruppegoek@outlook.de). Meldet euch SCHNELLSTMÖGLICH an!
CATEGORIES:Exkursion
LOCATION:NABU Naturschutzstation\, Teichhaus\, Eschefeld\, Deutschland
X-APPLE-STRUCTURED-LOCATION;VALUE=URI;X-ADDRESS=Teichhaus\, Eschefeld\, Deu
 tschland;X-APPLE-RADIUS=100;X-TITLE=NABU Naturschutzstation:geo:0,0
END:VEVENT
BEGIN:VTIMEZONE
TZID:Europe/Berlin
X-LIC-LOCATION:Europe/Berlin
BEGIN:DAYLIGHT
DTSTART:20190331T030000
TZOFFSETFROM:+0100
TZOFFSETTO:+0200
TZNAME:CEST
END:DAYLIGHT
END:VTIMEZONE
END:VCALENDAR