BEGIN:VCALENDAR
VERSION:2.0
PRODID:-//wp-events-plugin.com//7.2.3.1//EN
TZID:Europe/Berlin
X-WR-TIMEZONE:Europe/Berlin
BEGIN:VEVENT
UID:0-18@blogs.hrz.tu-freiberg.de
DTSTART;TZID=Europe/Berlin:20200312T200000
DTEND;TZID=Europe/Berlin:20200312T200000
DTSTAMP:20200301T164730Z
URL:https://blogs.hrz.tu-freiberg.de/fachgruppe-geooekologie/events/goek-s
 tammtisch/
SUMMARY:GÖK-Stammtisch
DESCRIPTION:Liebe GÖKs\,\n\n&nbsp\;\n\nder nächste Stammtisch ruft! Am 12
 .03. treffeb wir uns wieder gegen 20:00 Uhr in der UBar.\n\n&nbsp\;\n\nBis
  bald\, eure Fachgruppe
CATEGORIES:Diskussion
LOCATION:Ubar\, Meissner Gasse 20\, Freiberg\, 09599\, Deutschland
X-APPLE-STRUCTURED-LOCATION;VALUE=URI;X-ADDRESS=Meissner Gasse 20\, Freiber
 g\, 09599\, Deutschland;X-APPLE-RADIUS=100;X-TITLE=Ubar:geo:0,0
END:VEVENT
BEGIN:VTIMEZONE
TZID:Europe/Berlin
X-LIC-LOCATION:Europe/Berlin
BEGIN:STANDARD
DTSTART:20191027T020000
TZOFFSETFROM:+0200
TZOFFSETTO:+0100
TZNAME:CET
END:STANDARD
END:VTIMEZONE
END:VCALENDAR