BEGIN:VCALENDAR
VERSION:2.0
PRODID:-//wp-events-plugin.com//7.2.3.1//EN
TZID:Europe/Berlin
X-WR-TIMEZONE:Europe/Berlin
BEGIN:VEVENT
UID:0-1028@blogs.hrz.tu-freiberg.de
DTSTART;TZID=Europe/Berlin;VALUE=DATE:20260408
DTEND;TZID=Europe/Berlin;VALUE=DATE:20260410
DTSTAMP:20260401T090144Z
URL:https://blogs.hrz.tu-freiberg.de/fachgruppe-geooekologie/events/lehrpr
 oben-berufungsverfahren-fuer-die-professur-analytische-chemie/
SUMMARY:Lehrproben Berufungsverfahren für die Professur "Analytische Chemi
 e"
DESCRIPTION:Im Rahmen des Berufungsverfahrens für die Professur "Analytisc
 he Chemie" können alle Studierenden die Lehrproben und fachlichen Vorträ
 ge der Kandidat*innen besuchen und im Anschluss eine recht simple Bewertun
 g abgeben. Dies ist ein effektiver Weg für die Studierendenschaft Einflus
 s zu nehmen wie und somit auch wer die zukünftige Lehre in dem Fachbereic
 h an der TUBAF formt.\n\nDie Vorträge finden am 08./09.04.26 im Lesssingb
 au in Raum LES-1001 statt. Die genauen Uhrzeiten können den beiden PDFs u
 nten entnommen werden.\n\nIn Lehrproben ist das Ziel\, dass die Kandidat*i
 nnen ihre Art der didaktische Weitergabe eines Themas zeigen\, die wissens
 chaftlichen Vorträge geben einen stärkeren Einblick in die bisherigen Fo
 rschungen der Kandidat*in.\n\nAushang wissenschaftliche Vorträge W3 Anal
 ytische Chemie\n\nAushang Lehrproben W3-Analytische Chemie
CATEGORIES:Universitäre Veranstaltung
END:VEVENT
BEGIN:VTIMEZONE
TZID:Europe/Berlin
X-LIC-LOCATION:Europe/Berlin
BEGIN:DAYLIGHT
DTSTART:20260329T030000
TZOFFSETFROM:+0100
TZOFFSETTO:+0200
TZNAME:CEST
END:DAYLIGHT
END:VTIMEZONE
END:VCALENDAR