BEGIN:VCALENDAR
VERSION:2.0
PRODID:-//wp-events-plugin.com//7.2.3.1//EN
TZID:Europe/Berlin
X-WR-TIMEZONE:Europe/Berlin
BEGIN:VEVENT
UID:0-580@blogs.hrz.tu-freiberg.de
DTSTART;TZID=Europe/Berlin:20250307T180000
DTEND;TZID=Europe/Berlin:20250307T220000
DTSTAMP:20250205T201255Z
URL:https://blogs.hrz.tu-freiberg.de/fachgruppe-geooekologie/events/letzte
 r-stammtisch-im-wintersemester-2024-25/
SUMMARY:Letzter Stammtisch im Wintersemester 2024/25
DESCRIPTION:Am 7. März laden wir euch herzlich in die Stadtwirtschaft ein\
 , um beim Geoökologie-Stammtisch gemeinsam das vergangene Semester Revue 
 passieren zu lassen\, Pläne zu schmieden und einfach eine gute Zeit zu ve
 rleben.\n\nWir freuen uns auf euch! 🪴
CATEGORIES:Stammtisch
LOCATION:Stadtwirtschaft Freiberg\, Burgstraße 18\, Freiberg\, Deutschland
X-APPLE-STRUCTURED-LOCATION;VALUE=URI;X-ADDRESS=Burgstraße 18\, Freiberg\,
  Deutschland;X-APPLE-RADIUS=100;X-TITLE=Stadtwirtschaft Freiberg:geo:0,0
END:VEVENT
BEGIN:VTIMEZONE
TZID:Europe/Berlin
X-LIC-LOCATION:Europe/Berlin
BEGIN:STANDARD
DTSTART:20241027T020000
TZOFFSETFROM:+0200
TZOFFSETTO:+0100
TZNAME:CET
END:STANDARD
END:VTIMEZONE
END:VCALENDAR