BEGIN:VCALENDAR
VERSION:2.0
PRODID:-//wp-events-plugin.com//7.2.3.1//EN
TZID:Europe/Berlin
X-WR-TIMEZONE:Europe/Berlin
BEGIN:VEVENT
UID:0-652@blogs.hrz.tu-freiberg.de
DTSTART;TZID=Europe/Berlin:20250520T113000
DTEND;TZID=Europe/Berlin:20250520T123000
DTSTAMP:20250506T204141Z
URL:https://blogs.hrz.tu-freiberg.de/fachgruppe-geooekologie/events/m-sc-v
 erteidigung-ex-situ-untersuchung-der-erosionsminderung-durch-biologische-b
 odenkrusten-mit-hilfe-einer-erosionskammer-ex-situ-examination-of-erosion-
 reduction-by-biological-soil-crusts-usi/
SUMMARY:M.Sc. - Verteidigung: Ex-situ-Untersuchung der Erosionsminderung du
 rch biologische Bodenkrusten mit Hilfe einer Erosionskammer. / Ex-situ exa
 mination of erosion reduction by biological soil crusts using an erosion c
 hamber.
DESCRIPTION:
CATEGORIES:Verteidigung
LOCATION:LES-1109\, Lessingstraße 45\, Freiberg\, Sachsen\, 09599\, Mittel
 sachsen \, Deutschland
X-APPLE-STRUCTURED-LOCATION;VALUE=URI;X-ADDRESS=Lessingstraße 45\, Freiber
 g\, Sachsen\, 09599\, Mittelsachsen \, Deutschland;X-APPLE-RADIUS=100;X-TI
 TLE=LES-1109:geo:0,0
END:VEVENT
BEGIN:VTIMEZONE
TZID:Europe/Berlin
X-LIC-LOCATION:Europe/Berlin
BEGIN:DAYLIGHT
DTSTART:20250330T030000
TZOFFSETFROM:+0100
TZOFFSETTO:+0200
TZNAME:CEST
END:DAYLIGHT
END:VTIMEZONE
END:VCALENDAR