BEGIN:VCALENDAR
VERSION:2.0
PRODID:-//wp-events-plugin.com//7.2.3.1//EN
TZID:Europe/Berlin
X-WR-TIMEZONE:Europe/Berlin
BEGIN:VEVENT
UID:0-598@blogs.hrz.tu-freiberg.de
DTSTART;TZID=Europe/Berlin:20250319T133000
DTEND;TZID=Europe/Berlin:20250319T143000
DTSTAMP:20250313T153950Z
URL:https://blogs.hrz.tu-freiberg.de/fachgruppe-geooekologie/events/m-sc-v
 erteidigung-tracing-the-anthropocene-in-sediments-of-lake-stechlin-using-a
 -multi-proxy-approach-of-gamma-spectrometry-and-biogeochemical-analyses/
SUMMARY:M.Sc.-Verteidigung: Tracing the Anthropocene in Sediments of Lake S
 techlin Using a Multi-Proxy Approach of Gamma Spectrometry and Biogeochemi
 cal Analyses
DESCRIPTION:Am 19. März 2025 findet um 13.30 Uhr im Mineralogischen Übung
 szimmer (Raum WER-0142) eine Masterarbeits-Verteidigung statt.\n\nDie Arbe
 it trägt den Titel „Tracing the Anthropocene in Sediments of Lake Stech
 lin Using a Multi-Proxy Approach of Gamma Spectrometry and Biogeochemical 
 Analyses“. Betreut wurde sie von Max Lau in der AG Biogeochemie. Wer onl
 ine dabei sein will\, kann sich hier einloggen: https://webroom.hrz.tu-che
 mnitz.de/gl/max-gmn-pr0-7fn\n🌊\n\n&nbsp\;
CATEGORIES:Verteidigung
LOCATION:WER-0142 (Mineralogisches Übungszimmer)\, Brennhausgasse 14\, Fre
 iberg\, Sachsen\, 09599\, Mittelsachsen\, Deutschland
X-APPLE-STRUCTURED-LOCATION;VALUE=URI;X-ADDRESS=Brennhausgasse 14\, Freiber
 g\, Sachsen\, 09599\, Mittelsachsen\, Deutschland;X-APPLE-RADIUS=100;X-TIT
 LE=WER-0142 (Mineralogisches Übungszimmer):geo:0,0
END:VEVENT
BEGIN:VTIMEZONE
TZID:Europe/Berlin
X-LIC-LOCATION:Europe/Berlin
BEGIN:STANDARD
DTSTART:20241027T020000
TZOFFSETFROM:+0200
TZOFFSETTO:+0100
TZNAME:CET
END:STANDARD
END:VTIMEZONE
END:VCALENDAR