BEGIN:VCALENDAR
VERSION:2.0
PRODID:-//wp-events-plugin.com//7.2.3.1//EN
TZID:Europe/Berlin
X-WR-TIMEZONE:Europe/Berlin
BEGIN:VEVENT
UID:0-640@blogs.hrz.tu-freiberg.de
DTSTART;TZID=Europe/Berlin:20250424T140000
DTEND;TZID=Europe/Berlin:20250424T150000
DTSTAMP:20250423T142413Z
URL:https://blogs.hrz.tu-freiberg.de/fachgruppe-geooekologie/events/m-sc-v
 erteidigung-untersuchung-ausgewaehlter-insektengruppen-zum-vergleich-von-n
 aturnahen-und-konventionellen-kleingartenparzellen-in-freiberg-investigati
 on-of-selected-insect-groups-to-compare/
SUMMARY:M.Sc. - Verteidigung: Untersuchung ausgewählter Insektengruppen zu
 m Vergleich von naturnahen und konventionellen Kleingartenparzellen in Fre
 iberg. / Investigation of selected insect groups to compare near-natural w
 ith conventional allotment plots in Freiberg.
DESCRIPTION:
CATEGORIES:Verteidigung
LOCATION:LES-1109\, Lessingstraße 45\, Freiberg\, Sachsen\, 09599\, Mittel
 sachsen \, Deutschland
X-APPLE-STRUCTURED-LOCATION;VALUE=URI;X-ADDRESS=Lessingstraße 45\, Freiber
 g\, Sachsen\, 09599\, Mittelsachsen \, Deutschland;X-APPLE-RADIUS=100;X-TI
 TLE=LES-1109:geo:0,0
END:VEVENT
BEGIN:VTIMEZONE
TZID:Europe/Berlin
X-LIC-LOCATION:Europe/Berlin
BEGIN:DAYLIGHT
DTSTART:20250330T030000
TZOFFSETFROM:+0100
TZOFFSETTO:+0200
TZNAME:CEST
END:DAYLIGHT
END:VTIMEZONE
END:VCALENDAR