BEGIN:VCALENDAR
VERSION:2.0
PRODID:-//wp-events-plugin.com//7.2.3.1//EN
TZID:Europe/Berlin
X-WR-TIMEZONE:Europe/Berlin
BEGIN:VEVENT
UID:0-879@blogs.hrz.tu-freiberg.de
DTSTART;TZID=Europe/Berlin:20260123T160000
DTEND;TZID=Europe/Berlin:20260123T170000
DTSTAMP:20260114T173054Z
URL:https://blogs.hrz.tu-freiberg.de/fachgruppe-geooekologie/events/ma-ver
 teidigung-representation-of-reactive-nitrate-processes-in-the-water-cycle-
 with-their-effect-on-the-areal-input-into-the-subsurface/
SUMMARY:MA-Verteidigung: Representation of reactive nitrate processes in th
 e water cycle with their effect on the areal input into the subsurface
DESCRIPTION:
CATEGORIES:Verteidigung
LOCATION:MEI-2306 (Besprechungsraum Hydrogeologie)\, Gustav-Zeuner-Str. 12\
 , Freiberg\, Deutschland
X-APPLE-STRUCTURED-LOCATION;VALUE=URI;X-ADDRESS=Gustav-Zeuner-Str. 12\, Fre
 iberg\, Deutschland;X-APPLE-RADIUS=100;X-TITLE=MEI-2306 (Besprechungsraum 
 Hydrogeologie):geo:0,0
END:VEVENT
BEGIN:VTIMEZONE
TZID:Europe/Berlin
X-LIC-LOCATION:Europe/Berlin
BEGIN:STANDARD
DTSTART:20251026T020000
TZOFFSETFROM:+0200
TZOFFSETTO:+0100
TZNAME:CET
END:STANDARD
END:VTIMEZONE
END:VCALENDAR