BEGIN:VCALENDAR
VERSION:2.0
PRODID:-//wp-events-plugin.com//7.2.3.1//EN
TZID:Europe/Berlin
X-WR-TIMEZONE:Europe/Berlin
BEGIN:VEVENT
UID:0-10@blogs.hrz.tu-freiberg.de
DTSTART;TZID=Europe/Berlin:20191104T080000
DTEND;TZID=Europe/Berlin:20191104T093000
DTSTAMP:20191018T123731Z
URL:https://blogs.hrz.tu-freiberg.de/fachgruppe-geooekologie/events/master
 verteidigung-gwendolyn-rausch-mgoek/
SUMMARY:Masterverteidigung - Gwendolyn Rausch (MGök)
DESCRIPTION:Vegetations- und Strukturanalyse nach einer Beweidung durch Sch
 afe\, Ziegen und Esel auf offenen und bewaldeten Binnendünen in Nordbaden
  (Rhein-Neckar-Kreis\, Baden-Württemberg)\nVegetational and structural an
 alysis of open and forested inland dunes after grazing by sheep\, goats an
 d donkeys in Nordbaden (Rhein-Neckar-Kreis\, Baden-Württemberg)\n\nBetreu
 erin: Dr. Elke Richert
LOCATION:Besprechungsraum Biowiss.\, Zi. 205b\, Leipziger Str 29\, 09599 Fr
 eiberg\, Deutschland
X-APPLE-STRUCTURED-LOCATION;VALUE=URI;X-ADDRESS=Leipziger Str 29\, 09599 Fr
 eiberg\, Deutschland;X-APPLE-RADIUS=100;X-TITLE=Besprechungsraum Biowiss.\
 , Zi. 205b:geo:0,0
END:VEVENT
BEGIN:VTIMEZONE
TZID:Europe/Berlin
X-LIC-LOCATION:Europe/Berlin
BEGIN:STANDARD
DTSTART:20191027T020000
TZOFFSETFROM:+0200
TZOFFSETTO:+0100
TZNAME:CET
END:STANDARD
END:VTIMEZONE
END:VCALENDAR