BEGIN:VCALENDAR
VERSION:2.0
PRODID:-//wp-events-plugin.com//7.2.3.1//EN
TZID:Europe/Berlin
X-WR-TIMEZONE:Europe/Berlin
BEGIN:VEVENT
UID:0-8@blogs.hrz.tu-freiberg.de
DTSTART;TZID=Europe/Berlin:20191023T090000
DTEND;TZID=Europe/Berlin:20191023T103000
DTSTAMP:20191018T123331Z
URL:https://blogs.hrz.tu-freiberg.de/fachgruppe-geooekologie/events/master
 verteidigung-ruth-jodoin-mgoek/
SUMMARY:Masterverteidigung - Ruth Jodoin (MGök)
DESCRIPTION:Habitatwahl des Ortolans (Emeriza hortulana) in der Bergbaufolg
 elandschaft des Braunkohletagebaus Welzow-Süd.\nHabitat Selection of the 
 Ortolan Bunting (Emeriza hortulana) in the Post-Mining Landscape of the Li
 gnite Mine Welzow-Sued.\n\nBetreuer: Dr. Günther\, NSI Freiberg
LOCATION:Besprechungsraum Biowiss.\, Zi. 205b\, Leipziger Str 29\, 09599 Fr
 eiberg\, Deutschland
X-APPLE-STRUCTURED-LOCATION;VALUE=URI;X-ADDRESS=Leipziger Str 29\, 09599 Fr
 eiberg\, Deutschland;X-APPLE-RADIUS=100;X-TITLE=Besprechungsraum Biowiss.\
 , Zi. 205b:geo:0,0
END:VEVENT
BEGIN:VTIMEZONE
TZID:Europe/Berlin
X-LIC-LOCATION:Europe/Berlin
BEGIN:DAYLIGHT
DTSTART:20190331T030000
TZOFFSETFROM:+0100
TZOFFSETTO:+0200
TZNAME:CEST
END:DAYLIGHT
END:VTIMEZONE
END:VCALENDAR