BEGIN:VCALENDAR
VERSION:2.0
PRODID:-//wp-events-plugin.com//7.2.3.1//EN
TZID:Europe/Berlin
X-WR-TIMEZONE:Europe/Berlin
BEGIN:VEVENT
UID:0-634@blogs.hrz.tu-freiberg.de
DTSTART;TZID=Europe/Berlin;VALUE=DATE:20250509
DTEND;TZID=Europe/Berlin;VALUE=DATE:20250511
DTSTAMP:20250410T192511Z
URL:https://blogs.hrz.tu-freiberg.de/fachgruppe-geooekologie/events/nabu-1
 2-fachtagung-zum-schutz-des-elbebibers-in-sachsen/
SUMMARY:NABU: 12. Fachtagung zum Schutz des Elbebibers in Sachsen
DESCRIPTION:Die 12. NABU-Fachtagung zum Schutz des Elbebibers in Sachsen fi
 ndet erstmals an zwei Tagen statt. Am\n9. Mai 2025 kommen in einer Online-
 Veranstaltung von 9:00 bis 13:00 Uhr Experten zu Wort. Sie spannen einen\n
 Bogen zwischen Erfahrungen im Ehrenamt\, wissenschaftlicher Forschung und 
 Herausforderungen durch\nden Klimawandel und schildern ihre Erfahrungen im
  Bibermanagement.\n\nAm Sonnabend\, den 10. Mai\, geht es ab 9:00 Uhr im L
 andgasthof Pressel weiter. Im Anschluss an die Vorträge laden wir ab 14:3
 0 Uhr zu einer Exkursion in das Presseler Heidewald und Moorgebiet ein\, w
 o die natürliche Bautätigkeit des Bibers zur Verbesserung der ökologisc
 hen Situation im Gebiet beiträgt.\n\nUm Anmeldung für die Veranstaltung 
 bis zum 30. April 2025 wird gebeten.\n\nWeitere Infos gibt es hier: https:
 //sachsen.nabu.de/imperia/md/nabu/images/regional/sachsen/einladung_bibert
 agung_2025-e05__2_.pdf
CATEGORIES:Tagung
END:VEVENT
BEGIN:VTIMEZONE
TZID:Europe/Berlin
X-LIC-LOCATION:Europe/Berlin
BEGIN:DAYLIGHT
DTSTART:20250330T030000
TZOFFSETFROM:+0100
TZOFFSETTO:+0200
TZNAME:CEST
END:DAYLIGHT
END:VTIMEZONE
END:VCALENDAR