BEGIN:VCALENDAR
VERSION:2.0
PRODID:-//wp-events-plugin.com//7.2.3.1//EN
TZID:Europe/Berlin
X-WR-TIMEZONE:Europe/Berlin
BEGIN:VEVENT
UID:0-320@blogs.hrz.tu-freiberg.de
DTSTART;TZID=Europe/Berlin:20240813T170000
DTEND;TZID=Europe/Berlin:20240813T190000
DTSTAMP:20240209T152139Z
URL:https://blogs.hrz.tu-freiberg.de/fachgruppe-geooekologie/events/nabu-b
 egehung-fnd-beschert-glueck-halde-naturschutzhelfer/
SUMMARY:NABU: Begehung FND Beschert-Glück-Halde (Naturschutzhelfer)
DESCRIPTION:Bevor es wieder an die diesjährige Pflege der Halde Beschert G
 lück geht\, wird ihre einmalige Flora vorgestellt.\nWeitere Infos: https:
 //freiberg.nabu-sachsen.de/service/termine/
CATEGORIES:Exkursion,NABU Arbeitseinsatz
END:VEVENT
BEGIN:VTIMEZONE
TZID:Europe/Berlin
X-LIC-LOCATION:Europe/Berlin
BEGIN:DAYLIGHT
DTSTART:20240331T030000
TZOFFSETFROM:+0100
TZOFFSETTO:+0200
TZNAME:CEST
END:DAYLIGHT
END:VTIMEZONE
END:VCALENDAR