BEGIN:VCALENDAR
VERSION:2.0
PRODID:-//wp-events-plugin.com//7.2.3.1//EN
TZID:Europe/Berlin
X-WR-TIMEZONE:Europe/Berlin
BEGIN:VEVENT
UID:0-350@blogs.hrz.tu-freiberg.de
DTSTART;TZID=Europe/Berlin:20240420T133000
DTEND;TZID=Europe/Berlin:20240420T133000
DTSTAMP:20240331T212230Z
URL:https://blogs.hrz.tu-freiberg.de/fachgruppe-geooekologie/events/nabu-u
 nd-sachsenforst-exkursion-im-stadtwald/
SUMMARY:NABU und SACHSENFORST: Exkursion im Stadtwald
DESCRIPTION:\n 	Treffpunkt: Freiberger Stadtwald\, Weggabelung Öhlmühlenw
 eg/Versteinerter Weg\n 	Anmeldung bei Selina Schöne unter freiberg[at]nab
 u-sachsen.de\n
CATEGORIES:Exkursion
END:VEVENT
BEGIN:VTIMEZONE
TZID:Europe/Berlin
X-LIC-LOCATION:Europe/Berlin
BEGIN:DAYLIGHT
DTSTART:20240331T030000
TZOFFSETFROM:+0100
TZOFFSETTO:+0200
TZNAME:CEST
END:DAYLIGHT
END:VTIMEZONE
END:VCALENDAR