BEGIN:VCALENDAR
VERSION:2.0
PRODID:-//wp-events-plugin.com//7.2.3.1//EN
TZID:Europe/Berlin
X-WR-TIMEZONE:Europe/Berlin
BEGIN:VEVENT
UID:0-293@blogs.hrz.tu-freiberg.de
DTSTART;TZID=Europe/Berlin:20240420T093000
DTEND;TZID=Europe/Berlin:20240420T120000
DTSTAMP:20240331T212210Z
URL:https://blogs.hrz.tu-freiberg.de/fachgruppe-geooekologie/events/nabu-v
 hs-mittelsachsen-exkursion-leben-am-und-im-wasser/
SUMMARY:NABU &amp\; VHS Mittelsachsen: Exkursion „Leben am und im Wasser
 “
DESCRIPTION:Der NABU Freiberg und die VHS Mittelsachsen veranstalten im Fre
 iberger Stadtwald eine Exkursion zum Thema: „Leben am und im Wasser“.\
 n\nAnmeldung über VHS Mittelsachsen erforderlich\, aber kostenfrei.
CATEGORIES:Exkursion
END:VEVENT
BEGIN:VTIMEZONE
TZID:Europe/Berlin
X-LIC-LOCATION:Europe/Berlin
BEGIN:DAYLIGHT
DTSTART:20240331T030000
TZOFFSETFROM:+0100
TZOFFSETTO:+0200
TZNAME:CEST
END:DAYLIGHT
END:VTIMEZONE
END:VCALENDAR