BEGIN:VCALENDAR
VERSION:2.0
PRODID:-//wp-events-plugin.com//7.2.3.1//EN
TZID:Europe/Berlin
X-WR-TIMEZONE:Europe/Berlin
BEGIN:VEVENT
UID:0-305@blogs.hrz.tu-freiberg.de
DTSTART;TZID=Europe/Berlin:20240524T000000
DTEND;TZID=Europe/Berlin:20240525T000000
DTSTAMP:20240209T151015Z
URL:https://blogs.hrz.tu-freiberg.de/fachgruppe-geooekologie/events/nabu-w
 iesenpflege-mittelsaida-2/
SUMMARY:NABU: Wiesenpflege Mittelsaida
DESCRIPTION:Weitere Details werden zu gegebener Zeit bekanntgegeben.\nInfos
  auch unter: https://freiberg.nabu-sachsen.de/service/termine/
CATEGORIES:NABU Arbeitseinsatz
END:VEVENT
BEGIN:VTIMEZONE
TZID:Europe/Berlin
X-LIC-LOCATION:Europe/Berlin
BEGIN:DAYLIGHT
DTSTART:20240331T030000
TZOFFSETFROM:+0100
TZOFFSETTO:+0200
TZNAME:CEST
END:DAYLIGHT
END:VTIMEZONE
END:VCALENDAR