BEGIN:VCALENDAR
VERSION:2.0
PRODID:-//wp-events-plugin.com//7.2.3.1//EN
TZID:Europe/Berlin
X-WR-TIMEZONE:Europe/Berlin
BEGIN:VEVENT
UID:0-882@blogs.hrz.tu-freiberg.de
DTSTART;TZID=Europe/Berlin:20260612T180000
DTEND;TZID=Europe/Berlin:20260612T234500
DTSTAMP:20260421T150320Z
URL:https://blogs.hrz.tu-freiberg.de/fachgruppe-geooekologie/events/nacht-
 der-wissenschaft-wirtschaft-2026/
SUMMARY:Nacht der Wissenschaft und Wirtschaft 2026
DESCRIPTION:Die Veranstaltung findet auf dem Campus-Nord der TU Freiberg st
 att. Weitere Infos folgen voraussichtlich im Mai.\n\nhttps://www.ndww-frei
 berg.de/\n\nDie Geöokologie ist gleich an mehreren Orten vertreten. Neben
  Mitmachangeboten und Posterpräsentationen gibt es ökologische Campustou
 ren zu den Pflanzen und Tieren auf den Campuswiesen (um 18:30)\, zu Vögel
 n auf dem Campus (um 20:00) und zu Fledermäusen (um 22:00).
ATTACH;FMTTYPE=image/jpeg:https://blogs.hrz.tu-freiberg.de/fachgruppe-geoo
 ekologie/wp-content/uploads/sites/41/2026/01/2026_NdWW_E-Mail.jpg
CATEGORIES:Universitäre Veranstaltung
END:VEVENT
BEGIN:VTIMEZONE
TZID:Europe/Berlin
X-LIC-LOCATION:Europe/Berlin
BEGIN:DAYLIGHT
DTSTART:20260329T030000
TZOFFSETFROM:+0100
TZOFFSETTO:+0200
TZNAME:CEST
END:DAYLIGHT
END:VTIMEZONE
END:VCALENDAR