BEGIN:VCALENDAR
VERSION:2.0
PRODID:-//wp-events-plugin.com//7.2.3.1//EN
TZID:Europe/Berlin
X-WR-TIMEZONE:Europe/Berlin
BEGIN:VEVENT
UID:0-526@blogs.hrz.tu-freiberg.de
DTSTART;TZID=Europe/Berlin:20250115T184500
DTEND;TZID=Europe/Berlin:20250115T210000
DTSTAMP:20250106T174520Z
URL:https://blogs.hrz.tu-freiberg.de/fachgruppe-geooekologie/events/neujah
 rsbowling-des-fsr3/
SUMMARY:Neujahrsbowling des FSR3
DESCRIPTION:Der FSR3 lädt am 15.01.2025 ab 18:45 Uhr zum Neujahrsbowling e
 in. Eine Anmeldung über den Blog des FSR3 ist erforderlich! Dort findet i
 hr auch alle weiteren Informationen.
CATEGORIES:Universitäre Veranstaltung
END:VEVENT
BEGIN:VTIMEZONE
TZID:Europe/Berlin
X-LIC-LOCATION:Europe/Berlin
BEGIN:STANDARD
DTSTART:20241027T020000
TZOFFSETFROM:+0200
TZOFFSETTO:+0100
TZNAME:CET
END:STANDARD
END:VTIMEZONE
END:VCALENDAR