BEGIN:VCALENDAR
VERSION:2.0
PRODID:-//wp-events-plugin.com//7.2.3.1//EN
TZID:Europe/Berlin
X-WR-TIMEZONE:Europe/Berlin
BEGIN:VEVENT
UID:0-171@blogs.hrz.tu-freiberg.de
DTSTART;TZID=Europe/Berlin:20231104T100000
DTEND;TZID=Europe/Berlin:20231104T100000
DTSTAMP:20231020T070519Z
URL:https://blogs.hrz.tu-freiberg.de/fachgruppe-geooekologie/events/oeffen
 tliche-pflanzaktion-einer-streuobstwiese/
SUMMARY:Öffentliche Pflanzaktion einer Streuobstwiese
DESCRIPTION:Im Münzbachtal soll eine Streuobstwiese angelegt werden. Gepfl
 anzt werden Äpfel\, Birnen\, Pflaumen und Kirschen\, welche später der A
 llgemeinheit zugute kommen sollen. Finanziert wird die Pflanzung aus dem e
 ku-Zukunftspreis aus Mitteln des Freistaat Sachsens.\n\nUm zur Pflanzung z
 u finden\, biegt ihr auf die Straße „Am Försterberg“ ein. Relativ zu
  Beginn findet ihr linkerhand einen Wirtschaftsweg. Auf diesem passiert ih
 r eine Schranke ("Abwasserwirtschaftliche Anlage") und dann seid ihr da (O
 SM.org-Link).
END:VEVENT
BEGIN:VTIMEZONE
TZID:Europe/Berlin
X-LIC-LOCATION:Europe/Berlin
BEGIN:STANDARD
DTSTART:20231029T020000
TZOFFSETFROM:+0200
TZOFFSETTO:+0100
TZNAME:CET
END:STANDARD
END:VTIMEZONE
END:VCALENDAR