BEGIN:VCALENDAR
VERSION:2.0
PRODID:-//wp-events-plugin.com//7.2.3.1//EN
TZID:Europe/Berlin
X-WR-TIMEZONE:Europe/Berlin
BEGIN:VEVENT
UID:0-99@blogs.hrz.tu-freiberg.de
DTSTART;TZID=Europe/Berlin:20230713T080000
DTEND;TZID=Europe/Berlin:20230713T180000
DTSTAMP:20230708T093834Z
URL:https://blogs.hrz.tu-freiberg.de/fachgruppe-geooekologie/events/osterz
 gebirgsexkursion-des-igel-praktikums/
SUMMARY:Osterzgebirgsexkursion des IGEL-Praktikums
DESCRIPTION:Für die Osterzgebirgsexkursion des IGEL-Praktikums sind noch P
 lätze frei. Abfahrt mit Bus ist 8:00 Uhr an der Haltestelle Agricolastra
 ße (hinter der Bibliothek). Der Tag wird auf die 20 Pflichtexkursionstage
  angerechnet.\n\nAnmeldung bitte bei Frau Dr. Gaitzsch (birgit.gaitzsch@ge
 o.tu-freiberg.de)
CATEGORIES:Exkursion
END:VEVENT
BEGIN:VTIMEZONE
TZID:Europe/Berlin
X-LIC-LOCATION:Europe/Berlin
BEGIN:DAYLIGHT
DTSTART:20230326T030000
TZOFFSETFROM:+0100
TZOFFSETTO:+0200
TZNAME:CEST
END:DAYLIGHT
END:VTIMEZONE
END:VCALENDAR