BEGIN:VCALENDAR
VERSION:2.0
PRODID:-//wp-events-plugin.com//7.2.3.1//EN
TZID:Europe/Berlin
X-WR-TIMEZONE:Europe/Berlin
BEGIN:VEVENT
UID:0-625@blogs.hrz.tu-freiberg.de
DTSTART;TZID=Europe/Berlin;VALUE=DATE:20250802
DTEND;TZID=Europe/Berlin;VALUE=DATE:20250810
DTSTAMP:20250402T093720Z
URL:https://blogs.hrz.tu-freiberg.de/fachgruppe-geooekologie/events/schell
 erhauer-naturschutzpraktikum-schellerhau-nature-conservation-training/
SUMMARY:Schellerhauer Naturschutzpraktikum / Schellerhau Nature Conservatio
 n Training
DESCRIPTION:Bereits im 30. Jahrgang findet vom 2.-9. August 2025 das "Schel
 lerhauer Naturschutzpraktikum" statt\, organisiert von der Naturschutzstat
 ion Osterzgebirge e.V. (Altenberg bei Dresden). Wir suchen für das Prakti
 kum (internationale) Teilnehmende\, die tatkräftig mit im praktischen Nat
 urschutz anpacken und Fachwissen in der Naturschutzarbeit sammeln möchten
 . Die Teilnahme ist kostenfrei\, während des Praktikums sprechen wir Engl
 isch.\n\nBewerbungsschluss: 31.05.2025\nalle Infos auch hier: https://www.
 naturschutzstation-osterzgebirge.de/projekte-aufgaben/praktische-naturschu
 tzarbeit/schellerhauer-naturschutzpraktikum-fuer-studierende/\n
END:VEVENT
BEGIN:VTIMEZONE
TZID:Europe/Berlin
X-LIC-LOCATION:Europe/Berlin
BEGIN:DAYLIGHT
DTSTART:20250330T030000
TZOFFSETFROM:+0100
TZOFFSETTO:+0200
TZNAME:CEST
END:DAYLIGHT
END:VTIMEZONE
END:VCALENDAR