BEGIN:VCALENDAR
VERSION:2.0
PRODID:-//wp-events-plugin.com//7.2.3.1//EN
TZID:Europe/Berlin
X-WR-TIMEZONE:Europe/Berlin
BEGIN:VEVENT
UID:0-186@blogs.hrz.tu-freiberg.de
DTSTART;TZID=Europe/Berlin;VALUE=DATE:20231115
DTEND;TZID=Europe/Berlin;VALUE=DATE:20231116
DTSTAMP:20231020T072344Z
URL:https://blogs.hrz.tu-freiberg.de/fachgruppe-geooekologie/events/schoko
 lade-selbst-gestalten-zur-schokoladenwette-%f0%9f%8d%ab/
SUMMARY:Schokolade selbst gestalten zur Schokoladenwette 🍫
DESCRIPTION:Seit 2016 ist Freiberg Fairtrade Town. Nun gehen wir erstmals i
 n eine Wette gegen die anderen sächsischen Fairtrade Towns in Dresden\, C
 hemnitz\, Leipzig und Eibenstock. Ziel ist es\, möglichst viele Personen 
 zu gewinnen\, die das Etikett einer Fairtrade-Schokolade selbst gestalten.
  Zum Preis von einem Euro kann am 15. November Schokolade an verschiedenen
  Orten in Freiberg gestaltet werden. Einer der Orte ist das FAIRkauf Laden
 café (13-18 Uhr). 🍫
END:VEVENT
BEGIN:VTIMEZONE
TZID:Europe/Berlin
X-LIC-LOCATION:Europe/Berlin
BEGIN:STANDARD
DTSTART:20231029T020000
TZOFFSETFROM:+0200
TZOFFSETTO:+0100
TZNAME:CET
END:STANDARD
END:VTIMEZONE
END:VCALENDAR