BEGIN:VCALENDAR
VERSION:2.0
PRODID:-//wp-events-plugin.com//7.2.3.1//EN
TZID:Europe/Berlin
X-WR-TIMEZONE:Europe/Berlin
BEGIN:VEVENT
UID:0-667@blogs.hrz.tu-freiberg.de
DTSTART;TZID=Europe/Berlin:20250610T133000
DTEND;TZID=Europe/Berlin:20250610T183000
DTSTAMP:20250602T063823Z
URL:https://blogs.hrz.tu-freiberg.de/fachgruppe-geooekologie/events/semina
 r-einfuehrung-in-die-datenvisualisierung-mit-python-lehrstuhl-fuer-bodenme
 chanik-und-grundbau/
SUMMARY:Seminar "Einführung in die Datenvisualisierung mit Python" (Lehrst
 uhl für Bodenmechanik und Grundbau)
DESCRIPTION:Python ist ein leistungsstarkes Werkzeug für Datenanalyse und 
 Visualisierung – besonders hilfreich für Abschlussarbeiten in den Geo- 
 und Ingenieurwissenschaften. Der Workshop\, angeboten vom Lehrstuhl für B
 odenmechanik und Grundbau\, vermittelt Grundlagen zur Datenanalyse in Pyth
 on und zeigt\, wie wissenschaftliche Abbildungen zielgerichtet und verstä
 ndlich gestaltet werden können.\n\nTermin: Dienstag\, 10. Juni 2025\, 13:
 30–18:30 Uhr\nOrt: Beratungsraum im Helmut-Härtig-Bau (HHB)\nZielgruppe
 : Studierende und Promovierende der Geo- und Ingenieurwissenschaften\nAnme
 ldung: bis 6. Juni 2025 per Mail an Julia.Sorgatz@ifgt.tu-freiberg.de\n\nT
 eil 1 – Datenanalyse mit Python (13:30–16:30 Uhr):\nEinführung in die
  Datenverarbeitung mit pandas sowie Visualisierung mit matplotlib. Behande
 lt werden unter anderem das Erstellen und Bereinigen von DataFrames\, grun
 dlegende Diagrammtypen (z. B. Linien-\, Balken-\, Boxplots) und typische
  Anpassungen. Der Fokus liegt auf praxisnahen Übungen mit Beispiel- und e
 igenen Datensätzen.\n\nTeil 2 – Prinzipien guter Datenvisualisierung (1
 6:45–18:30 Uhr):\nWas macht eine wissenschaftliche Abbildung verständli
 ch? In diesem Abschnitt geht es um zielgerichtete Gestaltung\, sinnvolle B
 eschriftung\, Farbwahl und Lesbarkeit. Anschließend besteht die Möglichk
 eit\, eigene Visualisierungen zu überarbeiten und zu besprechen.\n\nDie T
 eilnahme an nur einem der beiden Teile ist ebenfalls möglich. Der Worksho
 p schließt mit einem informellen Ausklang.
CATEGORIES:Universitäre Veranstaltung
END:VEVENT
BEGIN:VTIMEZONE
TZID:Europe/Berlin
X-LIC-LOCATION:Europe/Berlin
BEGIN:DAYLIGHT
DTSTART:20250330T030000
TZOFFSETFROM:+0100
TZOFFSETTO:+0200
TZNAME:CEST
END:DAYLIGHT
END:VTIMEZONE
END:VCALENDAR