BEGIN:VCALENDAR
VERSION:2.0
PRODID:-//wp-events-plugin.com//7.2.3.1//EN
TZID:Europe/Berlin
X-WR-TIMEZONE:Europe/Berlin
BEGIN:VEVENT
UID:0-658@blogs.hrz.tu-freiberg.de
DTSTART;TZID=Europe/Berlin:20250521T100000
DTEND;TZID=Europe/Berlin:20250521T110000
DTSTAMP:20250512T092703Z
URL:https://blogs.hrz.tu-freiberg.de/fachgruppe-geooekologie/events/solarp
 arks-jagdreviere-fuer-fledermaeuse-%f0%9f%a6%87/
SUMMARY:Solarparks - Jagdreviere für Fledermäuse 🦇
DESCRIPTION:Am 21.05. (Mi) findet 10:00 - 11:00 ein kostenloses Webinar zum
  Thema "Solarparks - Jagdreviere für Fledermäuse" statt. Hier geht's zur
  Anmeldung: https://forms.office.com/Pages/ResponsePage.aspx?id=UQ_a7lOpik
 KO7AUXvBaFUpkRU6KqdxVHmNjG3xhm5clUM0dTTTFGVENGWkVYSDk0NUxVNzRCUkZDTy4u\nVe
 ranstalter ist die Initiative Sonne sammeln des Bundesverband Neue Energie
 wirtschaft e.V. (bne). Das Webinar steht in Zusammenhang zur neuesten Ver
 öffentlichung von Dr. Tim Peschel und Rolf Peschel zur Biodiversität auf
  31 untersuchten Photovoltaikanlagen. Weitere Infos siehe sonne-sammeln.de
  und https://sonne-sammeln.de/biodiversitaet/biodiversitaets-studie/. Es g
 ibt dort auch eine Mediathek mit Videos von der Studienvorstellung.\nDas W
 ebinar wird anschließend auf dem YouTube Kanal der bne hochgeladen.
CATEGORIES:Vortrag
END:VEVENT
BEGIN:VTIMEZONE
TZID:Europe/Berlin
X-LIC-LOCATION:Europe/Berlin
BEGIN:DAYLIGHT
DTSTART:20250330T030000
TZOFFSETFROM:+0100
TZOFFSETTO:+0200
TZNAME:CEST
END:DAYLIGHT
END:VTIMEZONE
END:VCALENDAR