BEGIN:VCALENDAR
VERSION:2.0
PRODID:-//wp-events-plugin.com//7.2.3.1//EN
TZID:Europe/Berlin
X-WR-TIMEZONE:Europe/Berlin
BEGIN:VEVENT
UID:0-514@blogs.hrz.tu-freiberg.de
DTSTART;TZID=Europe/Berlin:20250107T200000
DTEND;TZID=Europe/Berlin:20250107T210000
DTSTAMP:20241227T094725Z
URL:https://blogs.hrz.tu-freiberg.de/fachgruppe-geooekologie/events/studie
 renden-vollversammlung-zum-semesterticket-2/
SUMMARY:Studierenden-Vollversammlung zum Semesterticket #2
DESCRIPTION:Der Studierendenrat lädt alle in Freiberg immatrikulierten Stu
 dierenden zu einer Vollversammlung ein.\n\nGrundlage hierfür ist eine Unt
 erschriftenliste\, wobei sich zehn Prozent der Studierenden für eine neue
  Vollversammlung ausgesprochen haben.\nDiese wird am Dienstag\, dem 07.01.
 2025 ab 20 Uhr im Hörsaal B der Unibibliothek stattfinden. Die Studierend
 en\, welche diese Vollversammlung beantragt haben\, wünschen sich am Ende
  der Versammlung eine Abstimmung darüber\, ob ein Studentenentscheid zur 
 Abschaffung des Semestertickets durchgeführt wird.\n\nWeitere Information
 en zu der Vollversammlung\, was ein Studentenentscheid ist und allgemein z
 um Semesterticket findet ihr auf unserer Webseite:\nhttps://www.stura.tu-f
 reiberg.de/beratung/semesterticket/\n\nProtokoll der letzten Vollversammlu
 ng:\nhttps://www.stura.tu-freiberg.de/download/protokolle-stura/2018-2019/
 dsgvo/VV-Protokoll_2024_10_16.pdf\n\nWichtig ist\, dass ihr eure für das 
 Wintersemester 24/25 gestempelten Studierendenausweise mitbringt\, damit w
 ir euch Rede- und Abstimmungsrecht erteilen können.
CATEGORIES:Universitäre Veranstaltung
LOCATION:UBH-0205 (Hörsaal B)\, Bibliotheks- und Hörsaalzentrum\, Winkler
 straße 3\, Freiberg\, Deutschland
X-APPLE-STRUCTURED-LOCATION;VALUE=URI;X-ADDRESS=Bibliotheks- und Hörsaalze
 ntrum\, Winklerstraße 3\, Freiberg\, Deutschland;X-APPLE-RADIUS=100;X-TIT
 LE=UBH-0205 (Hörsaal B):geo:0,0
END:VEVENT
BEGIN:VTIMEZONE
TZID:Europe/Berlin
X-LIC-LOCATION:Europe/Berlin
BEGIN:STANDARD
DTSTART:20241027T020000
TZOFFSETFROM:+0200
TZOFFSETTO:+0100
TZNAME:CET
END:STANDARD
END:VTIMEZONE
END:VCALENDAR