BEGIN:VCALENDAR
VERSION:2.0
PRODID:-//wp-events-plugin.com//7.2.3.1//EN
TZID:Europe/Berlin
X-WR-TIMEZONE:Europe/Berlin
BEGIN:VEVENT
UID:0-428@blogs.hrz.tu-freiberg.de
DTSTART;TZID=Europe/Berlin:20241029T180000
DTEND;TZID=Europe/Berlin:20241029T193000
DTSTAMP:20240614T204424Z
URL:https://blogs.hrz.tu-freiberg.de/fachgruppe-geooekologie/events/tieris
 che-neulinge-willkommen-oder-nicht-vhs-mittelsachsen/
SUMMARY:Tierische Neulinge -- Willkommen oder nicht? (VHS Mittelsachsen)
DESCRIPTION:Die Volkshochschule Mittelsachsen lädt zum -kostenfreien- Vort
 rag von Dipl.-Biologe Kay Meister ein.\nAufgrund moderner menschlicher Akt
 ivitäten\, unter anderem der inzwischen weltweiten Reisebewegungen\, sind
  in den vergangenen Jahrhunderten zahlreiche Tierarten in das Erzgebirge e
 ingewandert oder eingeschleppt worden\, die unser Gebirge normalerweise ni
 cht erreicht hätten (Neozoen). Manche sind harmlos\, andere bedrohen die 
 heimische Natur oder die menschliche Gesundheit. Vielleicht bereichern sie
  aber auch die erzgebirgische Tierwelt?\nDer Vortrag stellt eine interessa
 nte Auswahl dieser Neubürger vor und liefert dazu eine Fülle überrasche
 nder und beeindruckender naturwissenschaftlicher Informationen.\n\nWeitere
  Infos und Anmeldung auf https://www.vhs-mittelsachsen.de/kursprogramm/ges
 ellschaft.html?action%5B19%5D=course&amp\;courseId=590-C-42F10004&amp\;row
 Index=17\n\n&nbsp\;
CATEGORIES:Vortrag
LOCATION:Stadtbibliothek Freiberg\, Korngasse 14\, Freiberg\, Deutschland
X-APPLE-STRUCTURED-LOCATION;VALUE=URI;X-ADDRESS=Korngasse 14\, Freiberg\, D
 eutschland;X-APPLE-RADIUS=100;X-TITLE=Stadtbibliothek Freiberg:geo:0,0
END:VEVENT
BEGIN:VTIMEZONE
TZID:Europe/Berlin
X-LIC-LOCATION:Europe/Berlin
BEGIN:STANDARD
DTSTART:20241027T020000
TZOFFSETFROM:+0200
TZOFFSETTO:+0100
TZNAME:CET
END:STANDARD
END:VTIMEZONE
END:VCALENDAR