BEGIN:VCALENDAR
VERSION:2.0
PRODID:-//wp-events-plugin.com//7.2.3.1//EN
TZID:Europe/Berlin
X-WR-TIMEZONE:Europe/Berlin
BEGIN:VEVENT
UID:0-413@blogs.hrz.tu-freiberg.de
DTSTART;TZID=Europe/Berlin:20240604T110000
DTEND;TZID=Europe/Berlin:20240604T120000
DTSTAMP:20240524T064129Z
URL:https://blogs.hrz.tu-freiberg.de/fachgruppe-geooekologie/events/vertei
 digung-bachelorarbeit-analyse-der-vegetation-von-drei-photovoltaik-freifla
 echenanlagen-pv-ffa-im-raum-freiberg-effekte-der-module-und-der-nutzung-an
 alysis-of-the-vegetation-of-three-grou/
SUMMARY:Verteidigung Bachelorarbeit: Analyse der Vegetation von drei Photov
 oltaik-Freiflächenanlagen (PV-FFA) im Raum Freiberg - Effekte der Module 
 und der Nutzung. / Analysis of the vegetation of three ground-mounted phot
 ovoltaic systems (PV-FFA) in the Freiberg area - effects of the modules an
 d utilization.
DESCRIPTION:Thema: Analyse der Vegetation von drei Photovoltaik-Freifläche
 nanlagen (PV-FFA) im Raum Freiberg - Effekte der Module und der Nutzung. /
  Analysis of the vegetation of three ground-mounted photovoltaic systems (
 PV-FFA) in the Freiberg area - effects of the modules and utilization.\n\n
 Referent*in: Noah Zappek\n\n&nbsp\;
CATEGORIES:Verteidigung
LOCATION:LES-1107\, Lessingstraße 45\, Freiberg\, Sachsen\, 09599\, Mittel
 sachsen \, Deutschland
X-APPLE-STRUCTURED-LOCATION;VALUE=URI;X-ADDRESS=Lessingstraße 45\, Freiber
 g\, Sachsen\, 09599\, Mittelsachsen \, Deutschland;X-APPLE-RADIUS=100;X-TI
 TLE=LES-1107:geo:0,0
END:VEVENT
BEGIN:VTIMEZONE
TZID:Europe/Berlin
X-LIC-LOCATION:Europe/Berlin
BEGIN:DAYLIGHT
DTSTART:20240331T030000
TZOFFSETFROM:+0100
TZOFFSETTO:+0200
TZNAME:CEST
END:DAYLIGHT
END:VTIMEZONE
END:VCALENDAR