BEGIN:VCALENDAR
VERSION:2.0
PRODID:-//wp-events-plugin.com//7.2.3.1//EN
TZID:Europe/Berlin
X-WR-TIMEZONE:Europe/Berlin
BEGIN:VEVENT
UID:0-583@blogs.hrz.tu-freiberg.de
DTSTART;TZID=Europe/Berlin:20250220T090000
DTEND;TZID=Europe/Berlin:20250220T100000
DTSTAMP:20250212T171606Z
URL:https://blogs.hrz.tu-freiberg.de/fachgruppe-geooekologie/events/vertei
 digung-bachelorarbeit-untersuchung-des-einflusses-der-modulbeschattung-und
 -der-nutzung-auf-die-heuschreckenfauna-von-zwei-photovoltaik-freiflaechena
 nlagen-pv-ffa-bei-freiberg/
SUMMARY:Verteidigung Bachelorarbeit: Untersuchung des Einflusses der Modulb
 eschattung und der Nutzung auf die Heuschreckenfauna von zwei Photovoltaik
 -Freiflächenanlagen (PV-FFA) bei Freiberg
DESCRIPTION:Untersuchung des Einflusses der Modulbeschattung und der Nutzun
 g auf die Heuschreckenfauna von zwei Photovoltaik-Freiflächenanlagen (PV-
 FFA) bei Freiberg
CATEGORIES:Verteidigung
LOCATION:LES-1002A\, Lessingstraße 45\, Freiberg\, Sachsen\, 09599\, Mitte
 lsachsen \, Deutschland
X-APPLE-STRUCTURED-LOCATION;VALUE=URI;X-ADDRESS=Lessingstraße 45\, Freiber
 g\, Sachsen\, 09599\, Mittelsachsen \, Deutschland;X-APPLE-RADIUS=100;X-TI
 TLE=LES-1002A:geo:0,0
END:VEVENT
BEGIN:VTIMEZONE
TZID:Europe/Berlin
X-LIC-LOCATION:Europe/Berlin
BEGIN:STANDARD
DTSTART:20241027T020000
TZOFFSETFROM:+0200
TZOFFSETTO:+0100
TZNAME:CET
END:STANDARD
END:VTIMEZONE
END:VCALENDAR