BEGIN:VCALENDAR
VERSION:2.0
PRODID:-//wp-events-plugin.com//7.2.3.1//EN
TZID:Europe/Berlin
X-WR-TIMEZONE:Europe/Berlin
BEGIN:VEVENT
UID:0-410@blogs.hrz.tu-freiberg.de
DTSTART;TZID=Europe/Berlin:20240604T100000
DTEND;TZID=Europe/Berlin:20240604T110000
DTSTAMP:20240524T064046Z
URL:https://blogs.hrz.tu-freiberg.de/fachgruppe-geooekologie/events/vertei
 digung-bafhelorarbeit-mauervegetation-weinberg/
SUMMARY:Verteidigung Bachelorarbeit: Analyse der Mauervegetation im Ökolog
 ischen Weinberg am Burgberg Meißen. / Analysis of stone wall vegetation i
 n the ecological vineyard Burgberg Meißen.
DESCRIPTION:Thema: Analyse der Mauervegetation im Ökologischen Weinberg am
  Burgberg Meißen. / Analysis of stone wall vegetation in the ecological v
 ineyard Burgberg Meißen.\n\nReferent*in: Marie Bergmann
CATEGORIES:Verteidigung
LOCATION:LES-1107\, Lessingstraße 45\, Freiberg\, Sachsen\, 09599\, Mittel
 sachsen \, Deutschland
X-APPLE-STRUCTURED-LOCATION;VALUE=URI;X-ADDRESS=Lessingstraße 45\, Freiber
 g\, Sachsen\, 09599\, Mittelsachsen \, Deutschland;X-APPLE-RADIUS=100;X-TI
 TLE=LES-1107:geo:0,0
END:VEVENT
BEGIN:VTIMEZONE
TZID:Europe/Berlin
X-LIC-LOCATION:Europe/Berlin
BEGIN:DAYLIGHT
DTSTART:20240331T030000
TZOFFSETFROM:+0100
TZOFFSETTO:+0200
TZNAME:CEST
END:DAYLIGHT
END:VTIMEZONE
END:VCALENDAR