BEGIN:VCALENDAR
VERSION:2.0
PRODID:-//wp-events-plugin.com//7.2.3.1//EN
TZID:Europe/Berlin
X-WR-TIMEZONE:Europe/Berlin
BEGIN:VEVENT
UID:0-685@blogs.hrz.tu-freiberg.de
DTSTART;TZID=Europe/Berlin;VALUE=DATE:20251121
DTEND;TZID=Europe/Berlin;VALUE=DATE:20251124
DTSTAMP:20250727T084035Z
URL:https://blogs.hrz.tu-freiberg.de/fachgruppe-geooekologie/events/vgoed-
 tagung-in-tuebingen/
SUMMARY:VGÖD-Tagung in Tübingen
DESCRIPTION:In Zusammenarbeit mit den Geowissenschaften der Universität T
 übingen wird die Geoökologie-Tagung 2025 im November 2025 in Tübingen s
 tattfinden. Es gibt 25 Jahre Geoökologie in Tübingen zu feiern. 🥳 Neb
 en Vorträgen und Führungen gibt es zahlreiche Möglichkeiten zur Vernetz
 ung mit anderen Gök-Standorten und in die Arbeitswelt.\n\nDas Programm un
 d die Anmeldung findet ihr unter https://www.vgoed.de/service/veranstaltun
 gen/geooekologietagung-2025.html\n\nWir als Fachgruppe Geoökologie werden
  wieder die Anreise und die Unterkunftssuche für die Freiberger Studis ko
 ordinieren. Details dazu folgen voraussichtlich bis Anfang Oktober.\n\n\n\
 nDer VGöD e. V. vertritt seit 1986 als unabhängiger\, gemeinnütziger Ve
 rband geoökologische Belange in Studium\, Beruf und Wissenschaft. Er för
 dert die geoökologische Ausbildung und Forschung sowie die Anwendung geo
 ökologischer Erkenntnisse auf konkrete Umweltprobleme. Die jährliche Tag
 ung ist zugleich Vereinssitzung und Austauschforum für Geoökolog*innen a
 us ganz Deutschland.\n\n\n
ATTACH;FMTTYPE=image/jpeg:https://blogs.hrz.tu-freiberg.de/fachgruppe-geoo
 ekologie/wp-content/uploads/sites/41/2025/06/Plakat-VGOeD-Tagung-2025.jpeg
CATEGORIES:VGöD-Veranstaltung
END:VEVENT
BEGIN:VTIMEZONE
TZID:Europe/Berlin
X-LIC-LOCATION:Europe/Berlin
BEGIN:STANDARD
DTSTART:20251026T020000
TZOFFSETFROM:+0200
TZOFFSETTO:+0100
TZNAME:CET
END:STANDARD
END:VTIMEZONE
END:VCALENDAR