BEGIN:VCALENDAR
VERSION:2.0
PRODID:-//wp-events-plugin.com//7.2.3.1//EN
TZID:Europe/Berlin
X-WR-TIMEZONE:Europe/Berlin
BEGIN:VEVENT
UID:0-649@blogs.hrz.tu-freiberg.de
DTSTART;TZID=Europe/Berlin:20250519T180000
DTEND;TZID=Europe/Berlin:20250519T193000
DTSTAMP:20250428T153126Z
URL:https://blogs.hrz.tu-freiberg.de/fachgruppe-geooekologie/events/vortra
 g-anders-wachsen-denn-immer-mehr-funktioniert-nicht/
SUMMARY:Vortrag: Anders wachsen - denn "immer mehr" funktioniert nicht!
DESCRIPTION:Der vermeintliche Zwang zum wirtschaftlichen Wachstum hat verhe
 erende Folgen für den Menschen und die Natur. Maßlosigkeit scheint das M
 aß aller Dinge geworden zu sein. Viele Menschen merken jedoch\, dass das 
 Streben nach "immer mehr" nicht funktionieren kann - nicht zuletzt aufgrun
 d endlicher Rohstoffe. Alternativen werden gebraucht. Dafür steht z.B. de
 r Initiativkreis "anders wachsen"\, der deutlich macht: Um Lebensqualität
  und Zufriedenheit darzustellen\, werden andere Kriterien als das Bruttoin
 landsprodukt benötigt. Deshalb: Welches Wachstum wollen und brauchen wir?
  Der Referent des Abends ist Heiko Reinhold.\nDie Veranstaltung ist eine K
 ooperation von Studium Generale\, vhs und Freiberger Agenda 21 e.V.
CATEGORIES:Vortrag
LOCATION:WER-1045\, Brennhausgasse 14\, Freiberg\, 09599\, Deutschland
X-APPLE-STRUCTURED-LOCATION;VALUE=URI;X-ADDRESS=Brennhausgasse 14\, Freiber
 g\, 09599\, Deutschland;X-APPLE-RADIUS=100;X-TITLE=WER-1045:geo:0,0
END:VEVENT
BEGIN:VTIMEZONE
TZID:Europe/Berlin
X-LIC-LOCATION:Europe/Berlin
BEGIN:DAYLIGHT
DTSTART:20250330T030000
TZOFFSETFROM:+0100
TZOFFSETTO:+0200
TZNAME:CEST
END:DAYLIGHT
END:VTIMEZONE
END:VCALENDAR