BEGIN:VCALENDAR
VERSION:2.0
PRODID:-//wp-events-plugin.com//7.2.3.1//EN
TZID:Europe/Berlin
X-WR-TIMEZONE:Europe/Berlin
BEGIN:VEVENT
UID:0-1016@blogs.hrz.tu-freiberg.de
DTSTART;TZID=Europe/Berlin:20260413T130000
DTEND;TZID=Europe/Berlin:20260413T140000
DTSTAMP:20260331T081433Z
URL:https://blogs.hrz.tu-freiberg.de/fachgruppe-geooekologie/events/vortra
 g-climate-justice-in-india-an-environmental-economics-perspective/
SUMMARY:Vortrag: Climate Justice in India: An Environmental Economics Persp
 ective
DESCRIPTION:Sunil Nautiyal (India) is a researcher and professor works on e
 nvironmental economics and climate justice focusing on the sustainable dev
 elopment. He will give a presentation about his researchs outcomes.\nDer V
 ortrag wird Online stattfinden und auf Englisch gehalten. Eine Übersetzun
 g mit deutschem Untertitel wird bei zoom möglich sein. Organisiert wird d
 er Vortrag von der Freiberger Agenda 21 mit verschiedenen PartnerInnen and
 erer ostdeutscher entwicklungspolitischer Vereine. Anmelden könnt ihr euc
 h unter: buero[at]freibergeragenda21.de\nEine direkte Einwahl ist aber auc
 h möglich: https://us02web.zoom.us/j/88533040251?pwd=ErqknqO6wAFu666PtfHk
 CVV8dwztDi.1
CATEGORIES:Vortrag
END:VEVENT
BEGIN:VTIMEZONE
TZID:Europe/Berlin
X-LIC-LOCATION:Europe/Berlin
BEGIN:DAYLIGHT
DTSTART:20260329T030000
TZOFFSETFROM:+0100
TZOFFSETTO:+0200
TZNAME:CEST
END:DAYLIGHT
END:VTIMEZONE
END:VCALENDAR