BEGIN:VCALENDAR
VERSION:2.0
PRODID:-//wp-events-plugin.com//7.2.3.1//EN
TZID:Europe/Berlin
X-WR-TIMEZONE:Europe/Berlin
BEGIN:VEVENT
UID:0-1154@blogs.hrz.tu-freiberg.de
DTSTART;TZID=Europe/Berlin:20260428T180000
DTEND;TZID=Europe/Berlin:20260428T180000
DTSTAMP:20260423T090840Z
URL:https://blogs.hrz.tu-freiberg.de/fachgruppe-geooekologie/events/vortra
 g-die-europaeische-wildkatze-rueckkehr-auf-leisen-pfoten/
SUMMARY:Vortrag: Die Europäische Wildkatze - Rückkehr auf leisen Pfoten
DESCRIPTION:Als echte Ureinwohnerin ist die Wildkatze schon lange in Europa
  zu Hause. Nachdem sie in Sachsen mehr als über hundert Jahre als ausgest
 orben galt\, kehrt sie langsam in naturnahe Laub- und Mischwälder des Fre
 istaates zurück. In Sachsen tauchte die Wildkatze vereinzelt bereits in d
 er Dübener Heide und im Vogtland auf. Kleine Populationen leben  im Leip
 ziger Auwald und im Werdauer Wald.\nDer Vortrag gibt einen Einblick in die
  Lebensweise der Wildkatzen\, ihre Situation in Sachsen und mögliche Schu
 tzmaßnahmen.\nDie vhs kooperiert bei diesem Vortrag mit dem BUND Sachsen.
 \n\nAnmeldung unter www.vhs-mittelsachsen.de
CATEGORIES:Vortrag
LOCATION:Stadtbibliothek Freiberg\, Korngasse 14\, Freiberg\, Deutschland
X-APPLE-STRUCTURED-LOCATION;VALUE=URI;X-ADDRESS=Korngasse 14\, Freiberg\, D
 eutschland;X-APPLE-RADIUS=100;X-TITLE=Stadtbibliothek Freiberg:geo:0,0
END:VEVENT
BEGIN:VTIMEZONE
TZID:Europe/Berlin
X-LIC-LOCATION:Europe/Berlin
BEGIN:DAYLIGHT
DTSTART:20260329T030000
TZOFFSETFROM:+0100
TZOFFSETTO:+0200
TZNAME:CEST
END:DAYLIGHT
END:VTIMEZONE
END:VCALENDAR