BEGIN:VCALENDAR
VERSION:2.0
PRODID:-//wp-events-plugin.com//7.2.3.1//EN
TZID:Europe/Berlin
X-WR-TIMEZONE:Europe/Berlin
BEGIN:VEVENT
UID:0-1019@blogs.hrz.tu-freiberg.de
DTSTART;TZID=Europe/Berlin:20260422T180000
DTEND;TZID=Europe/Berlin:20260422T190000
DTSTAMP:20260331T081633Z
URL:https://blogs.hrz.tu-freiberg.de/fachgruppe-geooekologie/events/vortra
 g-klima-und-beteiligung/
SUMMARY:Vortrag: Klima und Beteiligung
DESCRIPTION:In der Webinar-Reihe „Klima und Wir“ spricht Dr. Jonathan S
 eim\, Referat Bürgerbeteiligung der Stadt Wuppertal\, darüber\, wie wir 
 in unserer Kommune konkret etwas für den Klimaschutz tun können.\n\nDr. 
 Jonathan Seim zeigt\, welche Handlungs- und vor allem politischen Beteilig
 ungsmöglichkeiten es gibt\, ordnet sie systematisch und macht sie mit ans
 chaulichen Praxisbeispielen greifbar. Der Vortrag lädt dazu ein\, eigene 
 Ideen zu entwickeln und zu entdecken\, wo wir vor Ort gemeinsam wirksam we
 rden können.\nhttps://www.vhs-mittelsachsen.de/kurs/61D10421
CATEGORIES:Vortrag
END:VEVENT
BEGIN:VTIMEZONE
TZID:Europe/Berlin
X-LIC-LOCATION:Europe/Berlin
BEGIN:DAYLIGHT
DTSTART:20260329T030000
TZOFFSETFROM:+0100
TZOFFSETTO:+0200
TZNAME:CEST
END:DAYLIGHT
END:VTIMEZONE
END:VCALENDAR