BEGIN:VCALENDAR
VERSION:2.0
PRODID:-//wp-events-plugin.com//7.2.3.1//EN
TZID:Europe/Berlin
X-WR-TIMEZONE:Europe/Berlin
BEGIN:VEVENT
UID:0-67@blogs.hrz.tu-freiberg.de
DTSTART;TZID=Europe/Berlin:20230623T000000
DTEND;TZID=Europe/Berlin:20230625T000000
DTSTAMP:20230312T093532Z
URL:https://blogs.hrz.tu-freiberg.de/fachgruppe-geooekologie/events/wochen
 endfahrt-exkursion-nach-rathen-saechsische-schweiz/
SUMMARY:Wochenendfahrt/Exkursion nach Rathen (Sächsische Schweiz)
DESCRIPTION:Liebe Göks\,\n\nvom 23. Juni bis 25. Juni 2023 veranstaltet di
 e Fachgruppe Geoökologie -mit Unterstützung durch den VGöD- eine Woche
 nendexkursion ins Elbsandsteingebirge. Dort wollen wir entspannt Zeit in d
 er Natur verbringen. Lasst uns zusammen am Lagerfeuer sitzen\, quatschen u
 nd fachsimpeln\, wandern gehen\, Vegetationskunde vertiefen\, Spiele spiel
 en usw.… Wir hoffen\, damit euren Horizont ein wenig erweitern und die G
 ruppe stärken zu können.\n\nFragen und Anmeldung an fachgruppegoek@outlo
 ok.de oder persönlich \;)
END:VEVENT
BEGIN:VTIMEZONE
TZID:Europe/Berlin
X-LIC-LOCATION:Europe/Berlin
BEGIN:DAYLIGHT
DTSTART:20230326T030000
TZOFFSETFROM:+0100
TZOFFSETTO:+0200
TZNAME:CEST
END:DAYLIGHT
END:VTIMEZONE
END:VCALENDAR