BEGIN:VCALENDAR
VERSION:2.0
PRODID:-//wp-events-plugin.com//7.2.3.1//EN
TZID:Europe/Berlin
X-WR-TIMEZONE:Europe/Berlin
BEGIN:VEVENT
UID:0-336@blogs.hrz.tu-freiberg.de
DTSTART;TZID=Europe/Berlin:20260327T130000
DTEND;TZID=Europe/Berlin:20260327T143000
DTSTAMP:20260324T081420Z
URL:https://blogs.hrz.tu-freiberg.de/grafa/workshopuebersicht/crashkurs-wi
 ssenschaftskommunikation/
SUMMARY:Crashkurs Wissenschaftskommunikation
DESCRIPTION: Inhalt:\n\nGute Wissenschaftskommunikation ist in den letzten
  Jahren zu einem immer wichtigeren Thema an Universitäten und Forschungse
 inrichtungen geworden. In der Gesellschaft und den (Sozialen) Medien wäch
 st das Bedürfnis nach gut erklärter Forschung.\n\nDieser kurze Crashkurs
  vermittelt die wichtigsten Grundlagen:\n\n 	Prinzipien guter Wissenschaft
 skommunikation\n 	Als Wissenschaftler:in sichtbar werden\n 	Zielgruppen &a
 mp\; Formate\n 	Forschung verständlich erklären\n\n&nbsp\;\n\nDatum:\n\n
 27.03.2026 (13:00-14:30 Uhr) im SIZ Seminarraum\n\nÜbersicht:\n\n\n\nTrai
 ner\nClaudia Kallmeier\n\n\nFormat\nin Präsenz\n\n\nZielgruppe\nPostdocs\
 n\n\nKosten\nkeine Kosten für Mitglieder der TUBAF\n\n\nSprache\nDeutsch\
 n\n\nFinanzierung durch\nWISNA\n\n\n\nAnmeldung\nHier können Sie sich zum
  Workshop anmelden.\nBitte füllen Sie die Felder sorgfältig aus. Ihre Da
 ten werden für die Kursorganisation genutzt.\n&nbsp\;\n\n&nbsp\;\n\n&nbsp
 \;
CATEGORIES:Workshop
LOCATION:Konferenzraum SIZ\, Prüferstraße 2\, Freiberg\, 09599\, Deutschl
 and
X-APPLE-STRUCTURED-LOCATION;VALUE=URI;X-ADDRESS=Prüferstraße 2\, Freiberg
 \, 09599\, Deutschland;X-APPLE-RADIUS=100;X-TITLE=Konferenzraum SIZ:geo:0,
 0
END:VEVENT
BEGIN:VTIMEZONE
TZID:Europe/Berlin
X-LIC-LOCATION:Europe/Berlin
BEGIN:STANDARD
DTSTART:20251026T020000
TZOFFSETFROM:+0200
TZOFFSETTO:+0100
TZNAME:CET
END:STANDARD
END:VTIMEZONE
END:VCALENDAR