BEGIN:VCALENDAR
VERSION:2.0
PRODID:-//wp-events-plugin.com//7.2.3.1//EN
TZID:Europe/Berlin
X-WR-TIMEZONE:Europe/Berlin
BEGIN:VEVENT
UID:0-339@blogs.hrz.tu-freiberg.de
DTSTART;TZID=Europe/Berlin:20260331T130000
DTEND;TZID=Europe/Berlin:20260331T143000
DTSTAMP:20260128T093714Z
URL:https://blogs.hrz.tu-freiberg.de/grafa/workshopuebersicht/hochschuldid
 aktik/
SUMMARY:Hochschuldidaktik für die Postdocs
DESCRIPTION:In 90 Minuten bekommen Sie einen kompakten\, praxisnahen Werkz
 eugkasten\, um die eigene Lehre schnell wirksamer zu machen\, egal ob Vorl
 esung\, Übung oder Labor.\n\nDas nehmen Sie mit:\n\n 	Klare Lernziele fo
 rmulieren\n 	Methoden\, um Studierende ohne großen Aufwand zu aktivieren 
 und zu motivieren\n 	Schnelle Checks um Lernfortschritte sichtbar zu mache
 n\n 	Tipps für typische Herausforderungen: Stofffülle\, heterogene Grupp
 en\, geringe Beteiligung\n 	Wissen um Möglichkeiten sich tiefergehend mit
  Ihrer Lehre zu beschäftigen\n 	Digitale Tools\, die sie in Ihrer Lehre 
 einsetzen können\n\nDatum:\n\n31.03.2026 (13:00-14:30 Uhr) im SIZ Seminar
 raum\n\nÜbersicht\n\n\n\nTrainer\nDoris Geburek\, Freya Geishecker\n\n\nF
 ormat\nin Präsenz\n\n\nGebühr\nkeine Gebühr für Angehörige der TUBAF\
 n\n\nSprache\nDeutsch\n\n\nAnmeldefrist\n30. März 2026\n\n\n\nHier könne
 n Sie sich zum Kurs anmelden.\nBitte füllen Sie die Felder sorgfältig au
 s. Ihre Daten werden für die Kursorganisation genutzt.
CATEGORIES:Workshop
END:VEVENT
BEGIN:VTIMEZONE
TZID:Europe/Berlin
X-LIC-LOCATION:Europe/Berlin
BEGIN:DAYLIGHT
DTSTART:20260329T030000
TZOFFSETFROM:+0100
TZOFFSETTO:+0200
TZNAME:CEST
END:DAYLIGHT
END:VTIMEZONE
END:VCALENDAR