BEGIN:VCALENDAR
VERSION:2.0
PRODID:-//wp-events-plugin.com//7.2.3.1//EN
TZID:Europe/Berlin
X-WR-TIMEZONE:Europe/Berlin
BEGIN:VEVENT
UID:0-223@blogs.hrz.tu-freiberg.de
DTSTART;TZID=Europe/Berlin:20250910T130000
DTEND;TZID=Europe/Berlin:20250910T150000
DTSTAMP:20250722T133426Z
URL:https://blogs.hrz.tu-freiberg.de/grafa/workshopuebersicht/kamingesprae
 ch-eu-projekte/
SUMMARY:Kurzworkshop zum Antragsprozess\, Konsortiumbildung\, Projektkoordi
 nation der EU Projekte
DESCRIPTION:Inhalt:\n\no Kurze Einführung in Horizon Europe\, wo findet ma
 n Informationen\no Entstehung eines Konsortiums\no Antragsprozess\no Proje
 ktdurchführung\n\nErfahrungsaustausch und Diskussion zu Themen rund um di
 e Antragstellung und Projektmanagement im Horizon Europe Programm\n\nDatum
 \n\n10. September 2025 (13:00-15:00 Uhr)\, digital\n\nSprache:  Englisch\
 n\nHier können Sie sich zum Kurs anmelden.\nBitte füllen Sie die Felder 
 sorgfältig aus. Ihre Daten werden für die Kursorganisation genutzt.\n\n_
 _________________\n\nContent\n\nPresentation:\n\no Short introduction to H
 orizon Europe\, where to find information\no Creation of a consortium\no A
 pplication process\no Project implementation\n\nExchange of experience and
  discussion on topics related to application and project management in the
  Horizon Europe program\n\nDate\n\nSeptember 10\, 2025 (1:00 pm-3:00 pm)\,
  digital\n\nLanguage: English\n\nYou can register for the course here.\nPl
 ease fill in the fields carefully. Your data will be used for the course o
 rganization.
CATEGORIES:Informationsveranstaltung,TUBAF Postdoc Netzwerk
END:VEVENT
BEGIN:VTIMEZONE
TZID:Europe/Berlin
X-LIC-LOCATION:Europe/Berlin
BEGIN:DAYLIGHT
DTSTART:20250330T030000
TZOFFSETFROM:+0100
TZOFFSETTO:+0200
TZNAME:CEST
END:DAYLIGHT
END:VTIMEZONE
END:VCALENDAR