BEGIN:VCALENDAR
VERSION:2.0
PRODID:-//wp-events-plugin.com//7.2.3.1//EN
TZID:Europe/Berlin
X-WR-TIMEZONE:Europe/Berlin
BEGIN:VEVENT
UID:0-196@blogs.hrz.tu-freiberg.de
DTSTART;TZID=Europe/Berlin:20251023T140000
DTEND;TZID=Europe/Berlin:20251023T150000
DTSTAMP:20250716T110307Z
URL:https://blogs.hrz.tu-freiberg.de/grafa/workshopuebersicht/kamingesprae
 ch-mit-prof-daniel-hille/
SUMMARY:Kamingespräch mit Prof. Daniel Hiller aus dem Netzwerk der Humbold
 t Stiftung zum Thema „Herausforderungen auf dem Weg zur Professur“.
DESCRIPTION:\n\n&nbsp\;\nAusgestattet mit einer Heisenberg-Professur der De
 utschen Forschungsgemeinschaft (DFG) ist Prof. Dr. Daniel Hiller seit 2021
  Professor für Physik der Quantenmaterialien am Institut für Angewandte 
 Physik der TU Bergakademie Freiberg.\n\n\n\nProf. Hiller erhielt im Juni 
 2017 das Feodor Lynen-Forschungsstependium (inkl. JSPS und NSTC) und gehö
 rt zum Netzwerk der Humboldt Stiftung.\nIm Kamingespräch berichtet Prof. 
 Hiller über seinen Weg zur Professur und steht für die Fragen rund um da
 s Thema zur Verfügung.\n\nDatum\n\n23.10.2025 (14:00 Uhr - 15:00 Uhr) im 
 GraFA Seminarraum 2.404\, Prüferstraße 2\n\nHier können Sie sich zum Ku
 rs anmelden.\nBitte füllen Sie die Felder sorgfältig aus. Ihre Daten wer
 den für die Kursorganisation genutzt.
CATEGORIES:Informationsveranstaltung
END:VEVENT
BEGIN:VTIMEZONE
TZID:Europe/Berlin
X-LIC-LOCATION:Europe/Berlin
BEGIN:DAYLIGHT
DTSTART:20250330T030000
TZOFFSETFROM:+0100
TZOFFSETTO:+0200
TZNAME:CEST
END:DAYLIGHT
END:VTIMEZONE
END:VCALENDAR