BEGIN:VCALENDAR
VERSION:2.0
PRODID:-//wp-events-plugin.com//7.2.3.1//EN
TZID:Europe/Berlin
X-WR-TIMEZONE:Europe/Berlin
BEGIN:VEVENT
UID:0-229@blogs.hrz.tu-freiberg.de
DTSTART;TZID=Europe/Berlin:20260318T133000
DTEND;TZID=Europe/Berlin:20260318T150000
DTSTAMP:20260212T085853Z
URL:https://blogs.hrz.tu-freiberg.de/grafa/workshopuebersicht/kamingesprae
 ch-mit-prof-dr-habl-juergen-bast/
SUMMARY:Kamingespräch mit Prof. Dr. habil. Jürgen Bast zum Thema "Erfahru
 ngen und Herausforderungen im Laufe einer akademischen Karriere"
DESCRIPTION:Im Rahmen des Kamingesprächs bietet Prof. Bast zudem Beratunge
 n zum Verfassen der Habilitation sowie zum weiteren Verfahrensablauf an.\n
 \nDatum\n\n18. März 2026 (13:30-15:00 Uhr)\, GraFA Seminarraum 2.404\n\nH
 ier können Sie sich zum Kurs anmelden.\nBitte füllen Sie die Felder sorg
 fältig aus. Ihre Daten werden für die Kursorganisation genutzt.
CATEGORIES:TUBAF Postdoc Netzwerk
LOCATION:GraFA\, Raum 2.404\, \, 
X-APPLE-STRUCTURED-LOCATION;VALUE=URI;X-ADDRESS=\, ;X-APPLE-RADIUS=100;X-TI
 TLE=GraFA\, Raum 2.404:geo:0,0
END:VEVENT
BEGIN:VTIMEZONE
TZID:Europe/Berlin
X-LIC-LOCATION:Europe/Berlin
BEGIN:STANDARD
DTSTART:20251026T020000
TZOFFSETFROM:+0200
TZOFFSETTO:+0100
TZNAME:CET
END:STANDARD
END:VTIMEZONE
END:VCALENDAR