BEGIN:VCALENDAR
VERSION:2.0
PRODID:-//wp-events-plugin.com//7.2.3.1//EN
TZID:Europe/Berlin
X-WR-TIMEZONE:Europe/Berlin
BEGIN:VEVENT
UID:0-309@blogs.hrz.tu-freiberg.de
DTSTART;TZID=Europe/Berlin:20260421T090000
DTEND;TZID=Europe/Berlin:20260421T160000
DTSTAMP:20260420T114622Z
URL:https://blogs.hrz.tu-freiberg.de/grafa/workshopuebersicht/ki-in-der-wi
 ssenschaft-chancen-grenzen-und-praktische-anwendung/
SUMMARY:KI in der Wissenschaft: Chancen\, Grenzen und praktische Anwendung
DESCRIPTION:Inhaltliche Schwerpunkte des Workshops:\n- Verantwortungsvolle 
 Nutzung von KI\n- Prompting: Was ist das? Wie geht es richtig?\n- KI-gest
 ützte Recherche: Wobei kann KI unterstützen?\n- KI als Schreibassistent:
  verschiedene Szenarien\n- Bildgenerierung mit KI\n- Präsentationen erste
 llen mit KI\n\nMethoden:\n\nImpulse\, Live-Demonstrationen\, praktische Ü
 bungen\,\nDiskussion\, Vorstellung geeigneter Tools\n\nDatum:\n\n21. April
  2026 (9:00-16:00 Uhr)\, im SIZ\n\nÜbersicht\n\n\n\nTrainer\nJonas Carl\n
 \n\nFormat\nin Präsenz\n\n\nGebühr\nkeine Gebühr für Angehörige der T
 UBAF\n\n\nSprache\nDeutsch\n\n\nLernpunkte\n\n0\,25\n\n\nArbeitseinheiten 
 (AE)\n8\n\n\nFinanziell geförtert durch\n\nWISNA\n\n\nAnmeldefrist\n21. A
 pril 2026\n\n\n\nHier können Sie sich zum Kurs anmelden.\nBitte füllen S
 ie die Felder sorgfältig aus. Ihre Daten werden für die Kursorganisation
  genutzt.
CATEGORIES:Workshop
LOCATION:Konferenzraum SIZ\, Prüferstraße 2\, Freiberg\, 09599\, Deutschl
 and
X-APPLE-STRUCTURED-LOCATION;VALUE=URI;X-ADDRESS=Prüferstraße 2\, Freiberg
 \, 09599\, Deutschland;X-APPLE-RADIUS=100;X-TITLE=Konferenzraum SIZ:geo:0,
 0
END:VEVENT
BEGIN:VTIMEZONE
TZID:Europe/Berlin
X-LIC-LOCATION:Europe/Berlin
BEGIN:DAYLIGHT
DTSTART:20260329T030000
TZOFFSETFROM:+0100
TZOFFSETTO:+0200
TZNAME:CEST
END:DAYLIGHT
END:VTIMEZONE
END:VCALENDAR