BEGIN:VCALENDAR
VERSION:2.0
PRODID:-//wp-events-plugin.com//7.2.3.1//EN
TZID:Europe/Berlin
X-WR-TIMEZONE:Europe/Berlin
BEGIN:VEVENT
UID:0-226@blogs.hrz.tu-freiberg.de
DTSTART;TZID=Europe/Berlin:20251107T123000
DTEND;TZID=Europe/Berlin:20251107T153000
DTSTAMP:20250722T133640Z
URL:https://blogs.hrz.tu-freiberg.de/grafa/workshopuebersicht/mentale-ruhe
 -und-innere-freiheit-in-hoch-angespannten-situationen/
SUMMARY:Mentale Ruhe und innere Freiheit in hoch angespannten Situationen
DESCRIPTION:Inhalt\nAuch wenn wir noch so genau planen und das Zeitmanageme
 nt bestens beherrschen\, in der Wissenschaft bleibt die Herausforderung du
 rch unvorhersehbare Verzögerungen aus den vielfältigsten Gründen sehr h
 och. Welche Tricks und Tipps gibt es noch\, wenn es eng wird? In diesem Ku
 rs geht es weniger um Selbstoptimierung und Management\, sondern wir halte
 n inne. Denn "in der Ruhe liegt die Kraft"\, heißt es im Volksmund. Bewä
 hrte neurophysiologisch fundierte Techniken aus dem hypnosystemischen Coac
 hing und verschiedenen Weisheitstraditionen eröffnen Wege zu mentaler Ruh
 e und innerer Freiheit in hoch angespannten Situationen. Gemeinsam erprobe
 n wir diese Techniken und machen sie für anspruchsvolle Situationen mit k
 omplexen Herausforderungen nutzbar.\nDatum\n\n7. November 2025 (12:30 Uhr 
 bis 15:30 Uhr)\, GraFA Seminarraum\n\nSprache: Deutsch\n\nHier können Sie
  sich zum Kurs anmelden.\nBitte füllen Sie die Felder sorgfältig aus. Ih
 re Daten werden für die Kursorganisation genutzt.
CATEGORIES:Workshop
END:VEVENT
BEGIN:VTIMEZONE
TZID:Europe/Berlin
X-LIC-LOCATION:Europe/Berlin
BEGIN:STANDARD
DTSTART:20251026T020000
TZOFFSETFROM:+0200
TZOFFSETTO:+0100
TZNAME:CET
END:STANDARD
END:VTIMEZONE
END:VCALENDAR