BEGIN:VCALENDAR
VERSION:2.0
PRODID:-//wp-events-plugin.com//7.2.3.1//EN
TZID:Europe/Berlin
X-WR-TIMEZONE:Europe/Berlin
BEGIN:VEVENT
UID:0-299@blogs.hrz.tu-freiberg.de
DTSTART;TZID=Europe/Berlin:20260624T083000
DTEND;TZID=Europe/Berlin:20260624T100000
DTSTAMP:20260306T084512Z
URL:https://blogs.hrz.tu-freiberg.de/grafa/workshopuebersicht/nein-sagen-o
 hne-schlechtes-gewissen/
SUMMARY:Nein-Sagen ohne schlechtes Gewissen
DESCRIPTION:Inhalt\n\nDie ToDo-Liste ist bereits voll\, die Chefin kommt mi
 t noch mehr Aufgaben\nund die Kollegen wünschen sich Unterstützung und b
 itten um einen\nGefallen. Selbstbewusst Nein-sagen ist eine wichtige Strat
 egie\, um im\nArbeitsalltag gesund zu bleiben und genügend Energie für d
 ie wichtigen\nAufgaben zu haben. Im Workshop besprechen wir verschiedene S
 trategie\nfür die eigene Abgrenzung ohne die Anderen im Stich zu lassen:\
 n- Warum überhaupt Nein-Sagen? Die eigenen Grenzen kennen.\n- 6 Strategie
 n\, um Nein zu sagen\n\nDatum\n\n24. Juni 2026 (8:30 Uhr bis 10:00 Uhr)\, 
 online\n\nÜbersicht\n\n\n\nTrainer\nDr. Kathrin Carl\n\n\nFormat\nOnline-
 Workshop\n\n\nZielgruppe\nWissenschaftlerinnen\, Wissenschaftsmanagerinnen
 \, Mitarbeiterinnen der TUBAF\n\n\nKosten\nkeine Kosten für Mitglieder de
 r TUBAF\n\n\nSprache\nDeutsch\n\n\nFinanzierung durch\nDr. Erich-Krüger-S
 tiftung\n\n\n\nHier können Sie sich zum Kurs anmelden.\nBitte füllen Sie
  die Felder sorgfältig aus. Ihre Daten werden für die Kursorganisation g
 enutzt.
CATEGORIES:Workshop
END:VEVENT
BEGIN:VTIMEZONE
TZID:Europe/Berlin
X-LIC-LOCATION:Europe/Berlin
BEGIN:DAYLIGHT
DTSTART:20260329T030000
TZOFFSETFROM:+0100
TZOFFSETTO:+0200
TZNAME:CEST
END:DAYLIGHT
END:VTIMEZONE
END:VCALENDAR