BEGIN:VCALENDAR
VERSION:2.0
PRODID:-//wp-events-plugin.com//7.2.3.1//EN
TZID:Europe/Berlin
X-WR-TIMEZONE:Europe/Berlin
BEGIN:VEVENT
UID:0-289@blogs.hrz.tu-freiberg.de
DTSTART;TZID=Europe/Berlin:20260309T090000
DTEND;TZID=Europe/Berlin:20260309T180000
DTSTAMP:20260306T102418Z
URL:https://blogs.hrz.tu-freiberg.de/grafa/workshopuebersicht/paid-to-rese
 arch-how-to-prepare-successful-funding-applications/
SUMMARY:Paid to research: how to prepare successful funding applications
DESCRIPTION:Description:\nOn the first day of the workshop\, participants a
 re helped to identify suitable funding sources\, to understand what evalua
 tors are looking for when assessing an application\, to think strategicall
 y about the formal and informal contacts that the applicant might entertai
 n with the funding body in question and\, finally\, to prepare the structu
 re underpinning the actual writing of their application. On the second day
  of the workshop\, participants meet the trainer through a series of one-t
 o-one meetings. Within this context\, they have the opportunity to discuss
  their specific situation\, eventual challenges they are facing and possib
 le ways forward to prepare successful applications through a dedicated tai
 lor-made approach.\nObjectives:\n\nThis seminar supports participants in l
 earning how to adequately prepare their own successful applications for sc
 holarships\, travel grants and research funding (both in Germany and beyon
 d).\nContents in brief:\n- Identifying the most suitable funding bodies.\n
 - Understanding what evaluators are looking for in an application.\n- Keep
 ing in touch with the funding body (do’s and don’ts).\n- Exploring how
  to enhance one’s own image to “stick out from the rest”\n- Structur
 ing the writing of the funding application itself.\nMethodology:\n- Backgr
 ound theoretical information to bring everybody up to speed\n- Practical e
 xercises to learn how to prepare a funding application\n- Plenum discussio
 n to share best practice within the group\n- Working together with a partn
 er to test one’s approach\n- One-to-one session for enhanced tailor-made
  support\n\n\n\n\nDate:\n\n\n\nMarch 9\, 2026 (9:00 am - 6:00 pm)\, online
 \nMarch 10\, 2026 (9:00 am - 4:00 pm)\, online\nOverview:\n\n\n\nCoach\nPr
 of. Dr. Matteo Garavoglia\n\n\nFormat\nonline\n\n\nLocation\n-\n\n\nLangua
 ge\nEnglish\n\n\nFinancially supported by\n\nWISNA\n\n\nDeadline for regis
 tration\nMarch 7\, 2026\n\n\n\nAnmeldung / Registration\n\nHier können Si
 e sich zum Kurs anmelden.\nBitte füllen Sie die Felder sorgfältig aus. I
 hre Daten werden für die Kursorganisation genutzt.\n\nHere you can regist
 er for the course.\nPlease complete the form carefully. Your data will be 
 used for the course organisation.
CATEGORIES:Workshop
END:VEVENT
BEGIN:VTIMEZONE
TZID:Europe/Berlin
X-LIC-LOCATION:Europe/Berlin
BEGIN:STANDARD
DTSTART:20251026T020000
TZOFFSETFROM:+0200
TZOFFSETTO:+0100
TZNAME:CET
END:STANDARD
END:VTIMEZONE
END:VCALENDAR