BEGIN:VCALENDAR
VERSION:2.0
PRODID:-//wp-events-plugin.com//7.2.3.1//EN
TZID:Europe/Berlin
X-WR-TIMEZONE:Europe/Berlin
BEGIN:VEVENT
UID:0-324@blogs.hrz.tu-freiberg.de
DTSTART;TZID=Europe/Berlin:20260511T090000
DTEND;TZID=Europe/Berlin:20260511T170000
DTSTAMP:20260119T121705Z
URL:https://blogs.hrz.tu-freiberg.de/grafa/workshopuebersicht/schreibblock
 aden/
SUMMARY:Schreibblockaden lösen für Gruppen
DESCRIPTION:Inhalt des Workshops\nDie Begriffe »Schreibblockade« und »Pr
 okrastination« werden oft verwendet\, um auszudrücken\, dass es im eigen
 en Schreiben gerade – oder prinzipiell – nicht läuft. Dabei sind dies
 e beiden Begriffe gar nicht so aussagekräftig\, wie es auf den ersten Bli
 ck erscheint. Was genau ist der Fall\, wenn jemand von sich sagt: »Ich ha
 be eine Schreibblockade« oder »Ich prokrastiniere«? Diese Situation wir
 d dadurch verschärft\, dass viele Wissenschaftler*innen sehr selbstkritis
 ch sind und sehr spezifische Vorstellungen davon haben\, wie das Schreiben
  ablaufen sollte und wie es bei allen anderen auch tatsächlich abläuft 
 – nur bei ihnen selbst eben nicht.\nIn diesem Workshop haben die Teilneh
 mer*innen die Gelegenheit\, Ihren Schreibprozess in Ruhe zu untersuchen\, 
 Schwierigkeiten und Herausforderungen zu identifizieren und Lösungswege z
 u erschließen.\nWas ist der Fall? Was genau ist der Fall\, wenn ich von m
 ir sage\, ich habe eine Schreibblockade oder prokrastiniere? Wir begeben u
 ns auf die Suche nach akkuraten Beschreibungen ohne (Selbst-)Abwertungen.\
 nUrsachenforschung: Im nächsten Schritt suchen wir nach möglichen Ursach
 en für das zuvor beschriebene Problem: Liegen sie im Schreibprozess selbs
 t oder im akademischen Arbeitsumfeld oder gar außerhalb der Universität?
 \nWege und Techniken: Im dritten Teil des Workshops erschließen wir indiv
 iduelle Lösungswege\, die auf die tatsächlichen Ursachen abgestimmt sind
 \, und experimentieren zudem mit Schreibtechniken\, die den Fluss ins Schr
 eiben zurückbringen können\, wenn es mal wieder hakt.\nÜbersicht\n\n\n\
 nTrainer\nDr. Anselm Spindler\n\n\nFormat\nonline\n\n\nGebühr\nkeine Geb
 ühr für Angehörige der TUBAF\n\n\nSprache\nEnglish\n\n\nLernpunkte\n\n0
 \,25\n\n\nArbeitseinheiten (AE)\n8\n\n\nFinanziell geförtert durch\n\nDr.
  Erich-Krüger-Stiftung\n\n\nAnmeldefrist\n10. Mai 2026\n\n\n\nHier könne
 n Sie sich zum Kurs anmelden.\nBitte füllen Sie die Felder sorgfältig au
 s. Ihre Daten werden für die Kursorganisation genutzt.
CATEGORIES:Workshop
END:VEVENT
BEGIN:VTIMEZONE
TZID:Europe/Berlin
X-LIC-LOCATION:Europe/Berlin
BEGIN:DAYLIGHT
DTSTART:20260329T030000
TZOFFSETFROM:+0100
TZOFFSETTO:+0200
TZNAME:CEST
END:DAYLIGHT
END:VTIMEZONE
END:VCALENDAR