BEGIN:VCALENDAR
VERSION:2.0
PRODID:-//wp-events-plugin.com//7.2.3.1//EN
TZID:Europe/Berlin
X-WR-TIMEZONE:Europe/Berlin
BEGIN:VEVENT
UID:0-345@blogs.hrz.tu-freiberg.de
DTSTART;TZID=Europe/Berlin:20260303T090000
DTEND;TZID=Europe/Berlin:20260303T141500
DTSTAMP:20260128T161231Z
URL:https://blogs.hrz.tu-freiberg.de/grafa/workshopuebersicht/schreibcamp-
 schreibzeit-fuer-promovierende/
SUMMARY:Schreibcamp für Promovierende
DESCRIPTION:Your dissertation is due this year\, but between teaching and p
 rojects\, you can't seem to focus? The deadline for your paper is approach
 ing\, but you can't “just get started\,” and can´t finish?\n\nWith th
 e writing camp\, the University Library and the Graduate and Research Acad
 emy offer the opportunity to focus on academic texts during the lecture-fr
 ee period. In addition to clearly structured writing time in the Universit
 y Library\, the group program includes input and creative methods to get y
 ou started writing\, overcome inhibitions\, and achieve your individually 
 defined goal. Within the small group\, participating doctoral candidates e
 xperience mutual support and motivation. The days begin with input on goal
  definition\, writing methods\, concentration\, and self-regulation method
 s. The writing days conclude with "Atempause" that promotes self-regulatio
 n and focus. Support from Dr. Julia Meyer\, director of the University Lib
 rary and expert in writing science\, rounds out the program.\n\nThe weekly
  writing sessions will take place from March 3\, 2026\, to April 7\, 2026\
 , from 9:00 a.m. to 2:15 p.m. at the University Library.\n\n-----\n\nDie D
 issertation soll dieses Jahr noch eingereicht werden\, aber zwischen Lehre
  und Projekten findest du keinen Fokus? Die Abgabefrist für das Paper rü
 ckt näher\, aber du kannst nicht „einfach anfangen“ geschweige denn f
 ertig werden?\n\nMit dem Schreibcamp bieten die Universitätsbibliothek un
 d die Graduierten- und Forschungsakademie die Gelegenheit\, in der vorlesu
 ngsfreien Zeit mit Fokus an wissenschaftlichen Texten zu arbeiten. Das Gru
 ppenangebot umfasst neben der klar strukturierten Schreibzeit in der UB In
 puts und kreative Methoden\, um ins Schreiben zu kommen\, Hemmungen abzuba
 uen und das individuell definierte Ziel zu erreichen. Innerhalb der Kleing
 ruppe erfahren die teilnehmenden Promovieren gegenseitige Unterstützung u
 nd Motivation. Eingeleitet werden die Tage mit Inputs zu Zieldefinition\, 
 Schreibmethoden\, Konzentrations- und Selbstregulationsmethoden. Den Absch
 luss er Schreibtage bildet die Atempause\, die Selbstregulation und Fokuss
 ierung fördert. Die Begleitung durch Dr. Julia Meyer\, Direktorin der UB 
 und Expertin der Schreibwissenschaft\, rundet das Angebot ab.\n\nDie wöch
 entlichen Schreibzeiten finden vom 03.03.2026 bis 07.04.2026 jeweils von 0
 9:00-14.15 Uhr in der UB statt.\n\nÜbersicht\n\n\n\nFormat\nin Präsenz\n
 \n\nGebühr\nkeine Gebühr für Angehörige der TUBAF\n\n\nSprache\nEnglis
 ch\n\n\nFinanziell gefördert durch\n\nDr. Erich-Krüger-Stiftung\n\n\nAnm
 eldefrist\n26.02.2026\n\n\n
CATEGORIES:Workshop
LOCATION:Universitätsbibliothek\, Winklerstraße 3\,  Freiberg\, Sachsen\,
  09599\, Deutschland
X-APPLE-STRUCTURED-LOCATION;VALUE=URI;X-ADDRESS=Winklerstraße 3\,  Freiber
 g\, Sachsen\, 09599\, Deutschland;X-APPLE-RADIUS=100;X-TITLE=Universitäts
 bibliothek:geo:0,0
END:VEVENT
BEGIN:VTIMEZONE
TZID:Europe/Berlin
X-LIC-LOCATION:Europe/Berlin
BEGIN:STANDARD
DTSTART:20251026T020000
TZOFFSETFROM:+0200
TZOFFSETTO:+0100
TZNAME:CET
END:STANDARD
END:VTIMEZONE
END:VCALENDAR